BEGIN:VCALENDAR
VERSION:2.0
PRODID:-//Mostra d&#039;Oltremare di Napoli - ECPv5.0.3.1//NONSGML v1.0//EN
CALSCALE:GREGORIAN
METHOD:PUBLISH
X-WR-CALNAME:Mostra d&#039;Oltremare di Napoli
X-ORIGINAL-URL:https://archivio.mostradoltremare.it
X-WR-CALDESC:Eventi per Mostra d&#039;Oltremare di Napoli
BEGIN:VTIMEZONE
TZID:UTC
BEGIN:STANDARD
TZOFFSETFROM:+0000
TZOFFSETTO:+0000
TZNAME:UTC
DTSTART:20170101T000000
END:STANDARD
END:VTIMEZONE
BEGIN:VEVENT
DTSTART;TZID=UTC:20170517T083000
DTEND;TZID=UTC:20170520T133000
DTSTAMP:20260420T141802
CREATED:20170214T113324Z
LAST-MODIFIED:20170511T134207Z
UID:4660-1495009800-1495287000@archivio.mostradoltremare.it
SUMMARY:21° Congresso AMD (Associazione Medici Diabetologi)
DESCRIPTION:Per una diabetologia predittiva\, preventiva\, personalizzata e partecipativa. \nOrari congresso: \n\nmercoledì 17 maggio dalle 15\,00 alle 20\,30\ngiovedì 18 maggio e venerdì 19 maggio dalle 8\,30 alle 19\,30\nsabato 20 maggio dalle  8\,30 alle 13\,30\n\nIngresso pedonale Piazzale Tecchio – Ingressi carrabili Via Kennedy o Via Terracina \n
URL:https://archivio.mostradoltremare.it/event/21-congresso-amd-associazione-medici-diabetologi/
LOCATION:Palacongressi – Padiglione 10\, Napoli\, 80125
CATEGORIES:Congresso
ATTACH;FMTTYPE=image/png:https://archivio.mostradoltremare.it/wp-content/uploads/2017/02/Napoli17_gm-500x271.png
ORGANIZER;CN="OIC%20srl":MAILTO:amd2017@oic.it
END:VEVENT
END:VCALENDAR