BEGIN:VCALENDAR
VERSION:2.0
PRODID:-//Mostra d&#039;Oltremare di Napoli - ECPv5.0.3.1//NONSGML v1.0//EN
CALSCALE:GREGORIAN
METHOD:PUBLISH
X-WR-CALNAME:Mostra d&#039;Oltremare di Napoli
X-ORIGINAL-URL:https://archivio.mostradoltremare.it
X-WR-CALDESC:Eventi per Mostra d&#039;Oltremare di Napoli
BEGIN:VTIMEZONE
TZID:UTC
BEGIN:STANDARD
TZOFFSETFROM:+0000
TZOFFSETTO:+0000
TZNAME:UTC
DTSTART:20170101T000000
END:STANDARD
END:VTIMEZONE
BEGIN:VEVENT
DTSTART;TZID=UTC:20170529T140000
DTEND;TZID=UTC:20170601T140000
DTSTAMP:20260420T124341
CREATED:20170203T102227Z
LAST-MODIFIED:20170525T083943Z
UID:4111-1496066400-1496325600@archivio.mostradoltremare.it
SUMMARY:73° Congresso Nazionale SIP (Società Italiana Pediatria)
DESCRIPTION:dal titolo “I bambini crescono” \nOrari lavori congressuali: \nlunedì 29 maggio Corsi pre-congressuali dalle 14\,00 alle 20\,00 \nmartedì 30 maggio dalle 8\,30 alle 17\,00 – seguirà Cerimonia inaugurale \nmercoledì 31 maggio dalle 8\,30 alle 19\,30 \ngiovedì 1 giugno dalle 8\,30 alle 14\,00 \nIngresso Via Terracina \n
URL:https://archivio.mostradoltremare.it/event/73-congresso-nazionale-sip-societa-italiana-pediatria/
LOCATION:Palacongressi e Giardino dei Pini\, Via Terracina\, Napoli\, 80125
CATEGORIES:Congresso
ATTACH;FMTTYPE=image/png:https://archivio.mostradoltremare.it/wp-content/uploads/2017/02/congresso-pediatria.png
ORGANIZER;CN="BIOMEDIA%20SRL":MAILTO:congressosip@biomedia.net
END:VEVENT
END:VCALENDAR