BEGIN:VCALENDAR
VERSION:2.0
PRODID:-//Mostra d&#039;Oltremare di Napoli - ECPv5.0.3.1//NONSGML v1.0//EN
CALSCALE:GREGORIAN
METHOD:PUBLISH
X-WR-CALNAME:Mostra d&#039;Oltremare di Napoli
X-ORIGINAL-URL:https://archivio.mostradoltremare.it
X-WR-CALDESC:Eventi per Mostra d&#039;Oltremare di Napoli
BEGIN:VTIMEZONE
TZID:UTC
BEGIN:STANDARD
TZOFFSETFROM:+0000
TZOFFSETTO:+0000
TZNAME:UTC
DTSTART:20160101T000000
END:STANDARD
END:VTIMEZONE
BEGIN:VEVENT
DTSTART;VALUE=DATE:20161218
DTEND;VALUE=DATE:20161219
DTSTAMP:20260420T200852
CREATED:20161209T105540Z
LAST-MODIFIED:20161215T145042Z
UID:3414-1482019200-1482105599@archivio.mostradoltremare.it
SUMMARY:Anima e Corpo - Percorsi di danza
DESCRIPTION:Urban Contest\, Gran Galà e Saggi Natalizi. \nA partire dalle ore 9\,00. \n
URL:https://archivio.mostradoltremare.it/event/anima-corpo-percorsi-danza/
LOCATION:Teatro Mediterraneo e Piazzale antistante\, Viale J.F.Kennedy 54\, Napoli\, 80125
CATEGORIES:Spettacolo
ATTACH;FMTTYPE=image/png:https://archivio.mostradoltremare.it/wp-content/uploads/2016/12/Percorsi-di-danza-1.png
END:VEVENT
END:VCALENDAR