BEGIN:VCALENDAR
VERSION:2.0
PRODID:-//Mostra d&#039;Oltremare di Napoli - ECPv5.0.3.1//NONSGML v1.0//EN
CALSCALE:GREGORIAN
METHOD:PUBLISH
X-WR-CALNAME:Mostra d&#039;Oltremare di Napoli
X-ORIGINAL-URL:https://archivio.mostradoltremare.it
X-WR-CALDESC:Eventi per Mostra d&#039;Oltremare di Napoli
BEGIN:VTIMEZONE
TZID:UTC
BEGIN:STANDARD
TZOFFSETFROM:+0000
TZOFFSETTO:+0000
TZNAME:UTC
DTSTART:20160101T000000
END:STANDARD
END:VTIMEZONE
BEGIN:VEVENT
DTSTART;TZID=UTC:20161016T100000
DTEND;TZID=UTC:20161016T140000
DTSTAMP:20260421T074216
CREATED:20160909T102659Z
LAST-MODIFIED:20160909T103540Z
UID:2882-1476612000-1476626400@archivio.mostradoltremare.it
SUMMARY:Antiquari in Mostra
DESCRIPTION:
URL:https://archivio.mostradoltremare.it/event/antiquari-in-mostra-2/
CATEGORIES:Fiera,Parco
ATTACH;FMTTYPE=image/png:https://archivio.mostradoltremare.it/wp-content/uploads/2016/09/770-x-392antiquari.png
END:VEVENT
END:VCALENDAR