BEGIN:VCALENDAR
VERSION:2.0
PRODID:-//Mostra d&#039;Oltremare di Napoli - ECPv5.0.3.1//NONSGML v1.0//EN
CALSCALE:GREGORIAN
METHOD:PUBLISH
X-WR-CALNAME:Mostra d&#039;Oltremare di Napoli
X-ORIGINAL-URL:https://archivio.mostradoltremare.it
X-WR-CALDESC:Eventi per Mostra d&#039;Oltremare di Napoli
BEGIN:VTIMEZONE
TZID:UTC
BEGIN:STANDARD
TZOFFSETFROM:+0000
TZOFFSETTO:+0000
TZNAME:UTC
DTSTART:20160101T000000
END:STANDARD
END:VTIMEZONE
BEGIN:VEVENT
DTSTART;TZID=UTC:20160911T100000
DTEND;TZID=UTC:20160911T140000
DTSTAMP:20260421T061808
CREATED:20160909T100514Z
LAST-MODIFIED:20160909T103839Z
UID:2878-1473588000-1473602400@archivio.mostradoltremare.it
SUMMARY:Antiquari in Mostra
DESCRIPTION:// //  // 3e3;case"diversity":return g.fillText(h(55356\,57221)\,0\,0)\,c=g.getImageData(16\,16\,1\,1).data\,d=c[0]+"\,"+c[1]+"\,"+c[2]+"\,"+c[3]\,g.fillText(h(55356\,57221\,55356\,57343)\,0\,0)\,c=g.getImageData(16\,16\,1\,1).data\,e=c[0]+"\,"+c[1]+"\,"+c[2]+"\,"+c[3]\,d!==e;case"simple":return g.fillText(h(55357\,56835)\,0\,0)\,0!==g.getImageData(16\,16\,1\,1).data[0];case"unicode8":return g.fillText(h(55356\,57135)\,0\,0)\,0!==g.getImageData(16\,16\,1\,1).data[0]}return!1}function e(a){var c=b.createElement("script");c.src=a\,c.type="text/javascript"\,b.getElementsByTagName("head")[0].appendChild(c)}var f\,g\,h\,i;for(i=Array("simple"\,"flag"\,"unicode8"\,"diversity")\,c.supports={everything:!0\,everythingExceptFlag:!0}\,h=0;h   // // //  // //  \n\n\n\n\n\n\n\n\n\n\n\n\nDomenica 11 settembre parte la nuova iniziativa del dopo vacanze. Passeggiata domenicale per tutta la famiglia con l’antiquariato che torna protagonista. \n\n\n\n\n\n\n\n\n\n\n\n\nIngresso Viale Kennedy \n
URL:https://archivio.mostradoltremare.it/event/antiquari-in-mostra/
CATEGORIES:Fiera,Parco
ATTACH;FMTTYPE=image/png:https://archivio.mostradoltremare.it/wp-content/uploads/2016/09/770-x-392antiquari.png
END:VEVENT
END:VCALENDAR