BEGIN:VCALENDAR
VERSION:2.0
PRODID:-//Mostra d&#039;Oltremare di Napoli - ECPv5.0.3.1//NONSGML v1.0//EN
CALSCALE:GREGORIAN
METHOD:PUBLISH
X-WR-CALNAME:Mostra d&#039;Oltremare di Napoli
X-ORIGINAL-URL:https://archivio.mostradoltremare.it
X-WR-CALDESC:Eventi per Mostra d&#039;Oltremare di Napoli
BEGIN:VTIMEZONE
TZID:UTC
BEGIN:STANDARD
TZOFFSETFROM:+0000
TZOFFSETTO:+0000
TZNAME:UTC
DTSTART:20170101T000000
END:STANDARD
END:VTIMEZONE
BEGIN:VEVENT
DTSTART;TZID=UTC:20170312T100000
DTEND;TZID=UTC:20170312T140000
DTSTAMP:20260420T171551
CREATED:20170215T110240Z
LAST-MODIFIED:20170215T110712Z
UID:4706-1489312800-1489327200@archivio.mostradoltremare.it
SUMMARY:Antiquari in Mostra 2017
DESCRIPTION:Ingresso Viale Kennedy \n
URL:https://archivio.mostradoltremare.it/event/antiquari-mostra-2017-2-edizione/
CATEGORIES:Fiera,Parco
ATTACH;FMTTYPE=image/png:https://archivio.mostradoltremare.it/wp-content/uploads/2017/02/antiquari.png
ORGANIZER;CN="Bidonville%202.0%20sas%20di%20Consiglia%20Auletta":MAILTO:bidon@bidonville.org
END:VEVENT
END:VCALENDAR