BEGIN:VCALENDAR
VERSION:2.0
PRODID:-//Mostra d&#039;Oltremare di Napoli - ECPv5.0.3.1//NONSGML v1.0//EN
CALSCALE:GREGORIAN
METHOD:PUBLISH
X-WR-CALNAME:Mostra d&#039;Oltremare di Napoli
X-ORIGINAL-URL:https://archivio.mostradoltremare.it
X-WR-CALDESC:Eventi per Mostra d&#039;Oltremare di Napoli
BEGIN:VTIMEZONE
TZID:UTC
BEGIN:STANDARD
TZOFFSETFROM:+0000
TZOFFSETTO:+0000
TZNAME:UTC
DTSTART:20160101T000000
END:STANDARD
END:VTIMEZONE
BEGIN:VEVENT
DTSTART;TZID=UTC:20161211T100000
DTEND;TZID=UTC:20161211T140000
DTSTAMP:20260420T212925
CREATED:20160909T103804Z
LAST-MODIFIED:20160909T103804Z
UID:2887-1481450400-1481464800@archivio.mostradoltremare.it
SUMMARY:Antiquari in Mostra
DESCRIPTION:
URL:https://archivio.mostradoltremare.it/event/antiquari-mostra-3-2/
CATEGORIES:Fiera,Parco
ATTACH;FMTTYPE=image/png:https://archivio.mostradoltremare.it/wp-content/uploads/2016/09/770-x-392antiquari-1.png
ORGANIZER;CN="Bidonville%202.0%20sas":MAILTO:bidon@bidonville.org
END:VEVENT
END:VCALENDAR