BEGIN:VCALENDAR
VERSION:2.0
PRODID:-//Mostra d&#039;Oltremare di Napoli - ECPv5.0.3.1//NONSGML v1.0//EN
CALSCALE:GREGORIAN
METHOD:PUBLISH
X-WR-CALNAME:Mostra d&#039;Oltremare di Napoli
X-ORIGINAL-URL:https://archivio.mostradoltremare.it
X-WR-CALDESC:Eventi per Mostra d&#039;Oltremare di Napoli
BEGIN:VTIMEZONE
TZID:UTC
BEGIN:STANDARD
TZOFFSETFROM:+0000
TZOFFSETTO:+0000
TZNAME:UTC
DTSTART:20160101T000000
END:STANDARD
END:VTIMEZONE
BEGIN:VEVENT
DTSTART;TZID=UTC:20161113T100000
DTEND;TZID=UTC:20161113T140000
DTSTAMP:20260420T225757
CREATED:20160909T103350Z
LAST-MODIFIED:20161110T103218Z
UID:2885-1479031200-1479045600@archivio.mostradoltremare.it
SUMMARY:Antiquari in Mostra
DESCRIPTION:Organizzazione: Bidonville 2.0 sas \nVia Giannantonio Summonte 17 – 80133 Napoli \nwww.bidonville.org – bidon@bidonville.org – tel 0815529988 \n  \nIngresso manifestazione: Viale Kennedy 54 \n
URL:https://archivio.mostradoltremare.it/event/antiquari-mostra-3/
CATEGORIES:Fiera,Parco
ATTACH;FMTTYPE=image/png:https://archivio.mostradoltremare.it/wp-content/uploads/2016/09/770-x-392antiquari.png
END:VEVENT
END:VCALENDAR