BEGIN:VCALENDAR
VERSION:2.0
PRODID:-//Mostra d&#039;Oltremare di Napoli - ECPv5.0.3.1//NONSGML v1.0//EN
CALSCALE:GREGORIAN
METHOD:PUBLISH
X-WR-CALNAME:Mostra d&#039;Oltremare di Napoli
X-ORIGINAL-URL:https://archivio.mostradoltremare.it
X-WR-CALDESC:Eventi per Mostra d&#039;Oltremare di Napoli
BEGIN:VTIMEZONE
TZID:UTC
BEGIN:STANDARD
TZOFFSETFROM:+0000
TZOFFSETTO:+0000
TZNAME:UTC
DTSTART:20160101T000000
END:STANDARD
END:VTIMEZONE
BEGIN:VEVENT
DTSTART;TZID=UTC:20161125T000000
DTEND;TZID=UTC:20161127T000000
DTSTAMP:20260420T225757
CREATED:20160729T114318Z
LAST-MODIFIED:20161118T113211Z
UID:2808-1480032000-1480204800@archivio.mostradoltremare.it
SUMMARY:Pharmexpo 2016 - 9^ edizione
DESCRIPTION:Salone dell’Industria Farmaceutica. L’unico B2B del Centro Sud Italia. In collaborazione con Università\, Ordine dei Farmacisti e Federfarma numerosi ed importanti convegni con crediti ECM. \nIngresso Viale Kennedy \nOrario apertura fiera: Venerdì h.10\,00-18\,30; Sabato h.9\,00-18\,30; Domenica 9\,00-13\,00 \nPer informazioni: 0817640032 – info@pharmexpo.it – www.pharmexpo.it \n
URL:https://archivio.mostradoltremare.it/event/arkeda-2016-4-edizione/
LOCATION:Padiglioni 5 e 6\, Viale Kennedy 54\, Napoli\, 80125
CATEGORIES:Fiera
ATTACH;FMTTYPE=image/jpeg:https://archivio.mostradoltremare.it/wp-content/uploads/2016/07/732-pharmexpo_mostra.jpg
ORGANIZER;CN="Progecta%20S.r.l.":MAILTO:info@progecta.org
END:VEVENT
END:VCALENDAR