BEGIN:VCALENDAR
VERSION:2.0
PRODID:-//Mostra d&#039;Oltremare di Napoli - ECPv5.0.3.1//NONSGML v1.0//EN
CALSCALE:GREGORIAN
METHOD:PUBLISH
X-WR-CALNAME:Mostra d&#039;Oltremare di Napoli
X-ORIGINAL-URL:https://archivio.mostradoltremare.it
X-WR-CALDESC:Eventi per Mostra d&#039;Oltremare di Napoli
BEGIN:VTIMEZONE
TZID:UTC
BEGIN:STANDARD
TZOFFSETFROM:+0000
TZOFFSETTO:+0000
TZNAME:UTC
DTSTART:20180101T000000
END:STANDARD
END:VTIMEZONE
BEGIN:VEVENT
DTSTART;TZID=UTC:20180101T193000
DTEND;TZID=UTC:20180101T213000
DTSTAMP:20260419T233754
CREATED:20171109T121043Z
LAST-MODIFIED:20171211T094832Z
UID:6321-1514835000-1514842200@archivio.mostradoltremare.it
SUMMARY:Concerto di Capodanno 2018
DESCRIPTION:dal titolo “Napoli\, Vienna e Parigi”. Musiche di Rossini\, Offenbach\, Gounod\, Strauss ed altro ancora. \nOrchestra diretta dal M° Gianna Fratta. Soprano: Naomi Rivieccio. Tenore: Stefano Sorrentino. \nInfoline 0812535984 – 081410175 – info@nuovaorchestrascarlatti.it \nBiglietti in prevendita su www.azzurroservice.net e presso le prevendite abituali. In vendita al Teatro Mediterraneo solo il 1° gennaio 2018 a partire dalle ore 18\,00. Ridotto per i soci Ami Scarlatti \n
URL:https://archivio.mostradoltremare.it/event/concerto-capodanno-2018/
LOCATION:Teatro Mediterraneo e Piazzale antistante\, Viale J.F.Kennedy 54\, Napoli\, 80125
CATEGORIES:Spettacolo
ATTACH;FMTTYPE=image/jpeg:https://archivio.mostradoltremare.it/wp-content/uploads/2017/11/732-concerto-capodanno.jpg
ORGANIZER;CN="Associazione%20Nuova%20Orchestra%20Scarlatti":MAILTO:info@nuovaorchestrascarlatti.it
END:VEVENT
END:VCALENDAR