BEGIN:VCALENDAR
VERSION:2.0
PRODID:-//Mostra d&#039;Oltremare di Napoli - ECPv5.0.3.1//NONSGML v1.0//EN
CALSCALE:GREGORIAN
METHOD:PUBLISH
X-WR-CALNAME:Mostra d&#039;Oltremare di Napoli
X-ORIGINAL-URL:https://archivio.mostradoltremare.it
X-WR-CALDESC:Eventi per Mostra d&#039;Oltremare di Napoli
BEGIN:VTIMEZONE
TZID:UTC
BEGIN:STANDARD
TZOFFSETFROM:+0000
TZOFFSETTO:+0000
TZNAME:UTC
DTSTART:20160101T000000
END:STANDARD
END:VTIMEZONE
BEGIN:VEVENT
DTSTART;TZID=UTC:20161213T103000
DTEND;TZID=UTC:20161213T120000
DTSTAMP:20260420T200852
CREATED:20161116T114234Z
LAST-MODIFIED:20161209T104614Z
UID:3181-1481625000-1481630400@archivio.mostradoltremare.it
SUMMARY:Farfallone amoroso
DESCRIPTION:Storie divertenti dal mondo dell’opera per ragazzi dagli 8 ai 14 anni\, a cura della Nuova Orchestra Scarlatti.  Coordinatore M° Gaetano Russo. \nPagine vocali e strumentali di W. A. Mozart\, G. Rossini\, G. Donizetti\, G. Verdi\, F. Lehár e al. \n\n\n\n\n\n\nsoprano Naomi Rivieccio\, tenore Stefano Sorrentino\, baritono Juan Possidente. \nPer informazioni e prenotazioni: 081410175 – 3922073391 \nIngresso pedonale ed auto: Viale Kennedy \n\n\n\n\n\n\n
URL:https://archivio.mostradoltremare.it/event/concerto-le-scuole/
LOCATION:Teatro Mediterraneo e Piazzale antistante\, Viale J.F.Kennedy 54\, Napoli\, 80125
CATEGORIES:Spettacolo
ATTACH;FMTTYPE=image/jpeg:https://archivio.mostradoltremare.it/wp-content/uploads/2016/11/732-381-scarlatti.jpg
END:VEVENT
END:VCALENDAR