BEGIN:VCALENDAR
VERSION:2.0
PRODID:-//Mostra d&#039;Oltremare di Napoli - ECPv5.0.3.1//NONSGML v1.0//EN
CALSCALE:GREGORIAN
METHOD:PUBLISH
X-WR-CALNAME:Mostra d&#039;Oltremare di Napoli
X-ORIGINAL-URL:https://archivio.mostradoltremare.it
X-WR-CALDESC:Eventi per Mostra d&#039;Oltremare di Napoli
BEGIN:VTIMEZONE
TZID:UTC
BEGIN:STANDARD
TZOFFSETFROM:+0000
TZOFFSETTO:+0000
TZNAME:UTC
DTSTART:20170101T000000
END:STANDARD
END:VTIMEZONE
BEGIN:VEVENT
DTSTART;TZID=UTC:20170510T090000
DTEND;TZID=UTC:20170511T183000
DTSTAMP:20260420T141634
CREATED:20170302T142408Z
LAST-MODIFIED:20170510T090118Z
UID:4988-1494406800-1494527400@archivio.mostradoltremare.it
SUMMARY:Conferenza GNL 2017 - 4^ edizione; Expo GNL 2017 - 2^ edizione
DESCRIPTION:Duplice evento dedicato agli usi diretti del GNL (Gas Naturale Liquefatto) che unisce una conferenza internazionale (quarta edizione) e una manifestazione espositiva (seconda edizione) dove le aziende presentano progetti\, prodotti e tecnologie. \nPer informazioni: Segreteria Organizzativa = Mirumir srl – Via Alghero 15 – 20128 Milano – tel 0245471111 – segreteria@conferenzagnl.com \nBiglietti acquistabili online su www.ciaotickets.com e www.conferenzagnl.com – E’ anche possibile l’acquisto presso il Palacongressi nei giorni di evento. \nIngressi: \npedonale = Piazzale Tecchio;      auto = Via Terracina \n
URL:https://archivio.mostradoltremare.it/event/conferenza-gnl-expo-gnl/
LOCATION:Palacongressi e Giardino dei Pini\, Via Terracina\, Napoli\, 80125
CATEGORIES:Congresso
ATTACH;FMTTYPE=image/jpeg:https://archivio.mostradoltremare.it/wp-content/uploads/2017/03/EXPO-CONFERENZA-GNL-Logo-alta.jpg
END:VEVENT
END:VCALENDAR