BEGIN:VCALENDAR
VERSION:2.0
PRODID:-//Mostra d&#039;Oltremare di Napoli - ECPv5.0.3.1//NONSGML v1.0//EN
CALSCALE:GREGORIAN
METHOD:PUBLISH
X-WR-CALNAME:Mostra d&#039;Oltremare di Napoli
X-ORIGINAL-URL:https://archivio.mostradoltremare.it
X-WR-CALDESC:Eventi per Mostra d&#039;Oltremare di Napoli
BEGIN:VTIMEZONE
TZID:UTC
BEGIN:STANDARD
TZOFFSETFROM:+0000
TZOFFSETTO:+0000
TZNAME:UTC
DTSTART:20180101T000000
END:STANDARD
END:VTIMEZONE
BEGIN:VEVENT
DTSTART;TZID=UTC:20180222T083000
DTEND;TZID=UTC:20180223T140000
DTSTAMP:20260419T234532
CREATED:20180131T114800Z
LAST-MODIFIED:20180221T093433Z
UID:6909-1519288200-1519394400@archivio.mostradoltremare.it
SUMMARY:Congresso ADO Assistenza Domiciliare Ospedaliera
DESCRIPTION:I lavori congressuali avranno luogo come segue: \n– giovedì 22 febbraio 2018 dalle 8\,30 alle 18\,00 \n– venerdì 23 febbraio 2018 dalle 8\,30 alle 14\,00 \n  \nIngresso Via Terracina \n
URL:https://archivio.mostradoltremare.it/event/congresso-ado-assistenza-domiciliare-ospedaliera/
LOCATION:Palacongressi e Giardino dei Pini\, Via Terracina\, Napoli\, 80125
CATEGORIES:Congresso
ATTACH;FMTTYPE=image/jpeg:https://archivio.mostradoltremare.it/wp-content/uploads/2018/01/a3_forex.jpg
ORGANIZER;CN="CT%20CONGRESSI%20%26%20EVENTI%20di%20Claudia%20Tizzano":MAILTO:claudiatizzano@ctcongressieventi.com
END:VEVENT
END:VCALENDAR