BEGIN:VCALENDAR
VERSION:2.0
PRODID:-//Mostra d&#039;Oltremare di Napoli - ECPv5.0.3.1//NONSGML v1.0//EN
CALSCALE:GREGORIAN
METHOD:PUBLISH
X-WR-CALNAME:Mostra d&#039;Oltremare di Napoli
X-ORIGINAL-URL:https://archivio.mostradoltremare.it
X-WR-CALDESC:Eventi per Mostra d&#039;Oltremare di Napoli
BEGIN:VTIMEZONE
TZID:UTC
BEGIN:STANDARD
TZOFFSETFROM:+0000
TZOFFSETTO:+0000
TZNAME:UTC
DTSTART:20180101T000000
END:STANDARD
END:VTIMEZONE
BEGIN:VEVENT
DTSTART;TZID=UTC:20180301T083000
DTEND;TZID=UTC:20180301T173000
DTSTAMP:20260419T234532
CREATED:20171109T120446Z
LAST-MODIFIED:20180228T154937Z
UID:6318-1519893000-1519925400@archivio.mostradoltremare.it
SUMMARY:Convegno sulla Normativa Elettrica 2018
DESCRIPTION:Inizia a Napoli la serie di Incontri tecnici formativi itineranti (gratuiti per gli abbonati alla rivista TuttoNormel).  Nella prima relazione vengono illustrati i principali cambiamenti che vengono concordati in sede europea; quindi la parola passa all’ARERA (Autorità di Regolazione per l’Energia\, Reti ed Ambiente). \nIngresso Via Terracina. \n  \n
URL:https://archivio.mostradoltremare.it/event/convegno-sulla-normativa-elettrica-2018/
LOCATION:Sala Ischia del Palacongressi
CATEGORIES:Congresso
ATTACH;FMTTYPE=image/jpeg:https://archivio.mostradoltremare.it/wp-content/uploads/2017/11/tuttonormel.jpg
ORGANIZER;CN="TNE%20srl":MAILTO:info@tne.it
END:VEVENT
END:VCALENDAR