BEGIN:VCALENDAR
VERSION:2.0
PRODID:-//Mostra d&#039;Oltremare di Napoli - ECPv5.0.3.1//NONSGML v1.0//EN
CALSCALE:GREGORIAN
METHOD:PUBLISH
X-WR-CALNAME:Mostra d&#039;Oltremare di Napoli
X-ORIGINAL-URL:https://archivio.mostradoltremare.it
X-WR-CALDESC:Eventi per Mostra d&#039;Oltremare di Napoli
BEGIN:VTIMEZONE
TZID:UTC
BEGIN:STANDARD
TZOFFSETFROM:+0000
TZOFFSETTO:+0000
TZNAME:UTC
DTSTART:20170101T000000
END:STANDARD
END:VTIMEZONE
BEGIN:VEVENT
DTSTART;TZID=UTC:20170314T083000
DTEND;TZID=UTC:20170314T173000
DTSTAMP:20260420T171554
CREATED:20161116T143152Z
LAST-MODIFIED:20170309T140549Z
UID:3186-1489480200-1489512600@archivio.mostradoltremare.it
SUMMARY:Tuttonormel 2017
DESCRIPTION:Convegno sulla normativa elettrica \n  \nIngresso auto e pedonale Viale Kennedy \n  \nOrganizzazione: \nTNE srl \nStrada dei Ronchi 29 – 10133 Torino \ntel 0116611212 – fax 0116618105 \n
URL:https://archivio.mostradoltremare.it/event/convegno-sulla-normativa-elettrica-tuttonormel/
LOCATION:Sala Ischia del Palacongressi
CATEGORIES:Congresso
ATTACH;FMTTYPE=image/jpeg:https://archivio.mostradoltremare.it/wp-content/uploads/2016/11/tuttonormel.jpg
END:VEVENT
END:VCALENDAR