BEGIN:VCALENDAR
VERSION:2.0
PRODID:-//Mostra d&#039;Oltremare di Napoli - ECPv5.0.3.1//NONSGML v1.0//EN
CALSCALE:GREGORIAN
METHOD:PUBLISH
X-WR-CALNAME:Mostra d&#039;Oltremare di Napoli
X-ORIGINAL-URL:https://archivio.mostradoltremare.it
X-WR-CALDESC:Eventi per Mostra d&#039;Oltremare di Napoli
BEGIN:VTIMEZONE
TZID:UTC
BEGIN:STANDARD
TZOFFSETFROM:+0000
TZOFFSETTO:+0000
TZNAME:UTC
DTSTART:20170101T000000
END:STANDARD
END:VTIMEZONE
BEGIN:VEVENT
DTSTART;TZID=UTC:20170526T113000
DTEND;TZID=UTC:20170527T170000
DTSTAMP:20260420T155606
CREATED:20170526T072314Z
LAST-MODIFIED:20170526T072314Z
UID:5726-1495798200-1495904400@archivio.mostradoltremare.it
SUMMARY:Convention farmaceutica Bristol Myers Squibb
DESCRIPTION:Lavori congressuali: \nVenerdì 11\,30-19\,30; Sabato 8\,00-17\,00 \nIngresso Viale Kennedy \n
URL:https://archivio.mostradoltremare.it/event/convention-farmaceutica-bristol-myers-squibb/
LOCATION:Padiglione 5\, viale Kennedy 54\, Napoli\, NA\, 80125
CATEGORIES:Congresso
ATTACH;FMTTYPE=image/jpeg:https://archivio.mostradoltremare.it/wp-content/uploads/2017/05/381-BMS_logo.jpg
END:VEVENT
END:VCALENDAR