BEGIN:VCALENDAR
VERSION:2.0
PRODID:-//Mostra d&#039;Oltremare di Napoli - ECPv5.0.3.1//NONSGML v1.0//EN
CALSCALE:GREGORIAN
METHOD:PUBLISH
X-WR-CALNAME:Mostra d&#039;Oltremare di Napoli
X-ORIGINAL-URL:https://archivio.mostradoltremare.it
X-WR-CALDESC:Eventi per Mostra d&#039;Oltremare di Napoli
BEGIN:VTIMEZONE
TZID:UTC
BEGIN:STANDARD
TZOFFSETFROM:+0000
TZOFFSETTO:+0000
TZNAME:UTC
DTSTART:20180101T000000
END:STANDARD
END:VTIMEZONE
BEGIN:VEVENT
DTSTART;TZID=UTC:20180829T110000
DTEND;TZID=UTC:20180829T230000
DTSTAMP:20260420T100953
CREATED:20171128T104311Z
LAST-MODIFIED:20180827T133717Z
UID:6472-1535540400-1535583600@archivio.mostradoltremare.it
SUMMARY:Michael Jackson Day 5^ edizione - A Day for MJ with 3T
DESCRIPTION:Un grande evento a Napoli per celebrare i 60 anni dell’indimenticabile Re del Pop\, Michael Jackson. \nSessant’anni di leggenda\, storia indiscussa della musica Pop di tutti i tempi che ancora oggi sembra vivere indistintamente nel cuore di musicisti\, danzatori\, performers ed appassionati di tutto il mondo. Per la prima volta in esclusiva italiana i fratelli Jackson Taj\, Taryil e TJ Jackson\, denominati gruppo musicale 3T\, figli del brother Tito Jackson (membro dei Jackson 5) si esibiranno come Guest Star all’evento Nazionale Michael Jackson Day 5^ edizione – A Day for MJ with 3T. La manifestazione sarà una vera chicca per i veri amatori che vorranno partecipare al raduno\, alle attività all’aperto ed assistere allo Show serale con i 3T e con professionisti da tutta Italia che accorreranno ancora una volta a celebrare The King of Pop. \nInfoline 3926069371 – Email per info: adayformjwith3t@libero.it; Email per artisti: mjday@magicmichaeljackson.net \nApertura cancelli ore 11\,00 – Meet and Greet con i 3T ore 15\,30 – Show serale ore 19\,30. \nIngressi pubblico: Piazzale Tecchio (pedonale) e Viale Kennedy (auto e pedonale) \nAttive le prevendite su www.go2.it  (tel 0818038382) \, su www.vivaticket.it e su  https://www.boxol.it/it/event/a-day-for-michael-jackson-with-3t-teatro-mediterraneo-napoli/230521 \nPrezzi biglietti: \nPrimo settore (ticket valido tutta la giornata): €59\,00+ diritti di prevendita\nSecondo settore (ticket valido tutta la giornata) : €50.00+ diritti di prevendita\nIngresso solo alle ore 19:30 €30\,00+ diritti di prevendita \nRidotto bambini dai 4 anni compiuti ai 12 anni non compiuti:  €40\,00+ diritti di prevendita\nBambini fino a 4 anni gratis seduti in braccio al genitore.\nGruppi: ogni 10 una gratuità \n  \n
URL:https://archivio.mostradoltremare.it/event/day-for-michael-jackson-with-3t-5-edizione-del-mjday-2018/
LOCATION:Teatro Mediterraneo e Piazzale antistante\, Viale J.F.Kennedy 54\, Napoli\, 80125
CATEGORIES:Spettacolo
ATTACH;FMTTYPE=image/jpeg:https://archivio.mostradoltremare.it/wp-content/uploads/2017/11/michaeljacksonday2018.jpg
ORGANIZER;CN="MJJ%20Foundation%20Naples%20Onlus":MAILTO:adayformjwith3t@libero.it
END:VEVENT
END:VCALENDAR