BEGIN:VCALENDAR
VERSION:2.0
PRODID:-//Mostra d&#039;Oltremare di Napoli - ECPv5.0.3.1//NONSGML v1.0//EN
CALSCALE:GREGORIAN
METHOD:PUBLISH
X-WR-CALNAME:Mostra d&#039;Oltremare di Napoli
X-ORIGINAL-URL:https://archivio.mostradoltremare.it
X-WR-CALDESC:Eventi per Mostra d&#039;Oltremare di Napoli
BEGIN:VTIMEZONE
TZID:UTC
BEGIN:STANDARD
TZOFFSETFROM:+0000
TZOFFSETTO:+0000
TZNAME:UTC
DTSTART:20170101T000000
END:STANDARD
END:VTIMEZONE
BEGIN:VEVENT
DTSTART;TZID=UTC:20170310T093000
DTEND;TZID=UTC:20170312T210000
DTSTAMP:20260420T184338
CREATED:20160601T134854Z
LAST-MODIFIED:20170310T090658Z
UID:1732-1489138200-1489352400@archivio.mostradoltremare.it
SUMMARY:Droni in Mostra 2017 – 1^ edizione
DESCRIPTION:\n\n\n Napoli Drone Show 2017\n\n\n\n\n\n\nDroni in Mostra è l’evento dedicato alle realtà connesse ai SAPR (Sistemi Aeromobili a Pilotaggio Remoto)\n\n\n\n\n\n\n\nil venerdì riservato ad Operatori del settore ed Organi di stampa (ingresso previa registrazione online) su:\n\n\n\n\n\n\n www.droninmostra.it\n\n\n tel 08118856706-0810060602\n\n\n fax 0810060601\n\n\n\n\n\n\nPer informazioni e contatti:  info@droninmostra.it\n\n\n\n\n\n\n Organizzatore: L Eventi srls\n\n\n\n\nVenerdì 10 marzo = 9:30 – 19:00 B2B Day – Istituzioni\, Ordini professionali ed Operatori del settore (ingresso solo su invito)\, Seminari\nSabato 11 marzo = 10:30 – 21:00 Giovani e giovanissimi\, prove con istruttori qualificati\, divertimento FPV\, raduni Facebook\, spettacoli di luci e volo sincronizzato\nDomenica 12 marzo = 10:30 – 21:00 Professionisti\, appassionati e campioni del mondo FPV\, spettacolo di luci e volo sincronizzato\n\nProgramma eventi su www.droninmostra.it \n\n\n\nAPERTURA AL PUBBLICO  SABATO 11 MARZO E DOMENICA 12 MARZO dalle ore 10\,30 alle 21\,00\nPrezzo ingresso: Euro 10\,00\ngratuito per bambini fino ad 8 anni con accompagnatore pagante\, per diversamente abili con accompagnatore pagante\, per Forze dell’Ordine previa presentazione tesserino – disponibili riduzioni per scolaresche  e gruppi\n\n\n\n\n\n\n\n Ingresso Viale Kennedy 54\n\n\n\n\n\n\n\n\n\n\n\n\n\n\n\n\n\n\n\n
URL:https://archivio.mostradoltremare.it/event/droni-mostra-2016-1-edizione/
LOCATION:Padiglione 6\, Viale Kennedy 54
CATEGORIES:Fiera
ATTACH;FMTTYPE=image/jpeg:https://archivio.mostradoltremare.it/wp-content/uploads/2016/06/droni_in_mostra_2016.jpg
END:VEVENT
END:VCALENDAR