BEGIN:VCALENDAR
VERSION:2.0
PRODID:-//Mostra d&#039;Oltremare di Napoli - ECPv5.0.3.1//NONSGML v1.0//EN
CALSCALE:GREGORIAN
METHOD:PUBLISH
X-WR-CALNAME:Mostra d&#039;Oltremare di Napoli
X-ORIGINAL-URL:https://archivio.mostradoltremare.it
X-WR-CALDESC:Eventi per Mostra d&#039;Oltremare di Napoli
BEGIN:VTIMEZONE
TZID:UTC
BEGIN:STANDARD
TZOFFSETFROM:+0000
TZOFFSETTO:+0000
TZNAME:UTC
DTSTART:20160101T000000
END:STANDARD
END:VTIMEZONE
BEGIN:VEVENT
DTSTART;TZID=UTC:20161012T183000
DTEND;TZID=UTC:20161012T210000
DTSTAMP:20260421T031239
CREATED:20160630T082803Z
LAST-MODIFIED:20160926T094730Z
UID:2457-1476297000-1476306000@archivio.mostradoltremare.it
SUMMARY:Evento Ordine dei Medici
DESCRIPTION:\n\n\n Premiazione degli iscritti che hanno compiuto 40 anni di laurea\n\n\n\n\n\n\n\n\n\n\n\n\n\n\n\n\n\n\n\n\n\n\n\n\n\n
URL:https://archivio.mostradoltremare.it/event/evento-ordine-dei-medici/
LOCATION:Teatro Mediterraneo e Piazzale antistante\, Viale J.F.Kennedy 54\, Napoli\, 80125
CATEGORIES:Congresso
ATTACH;FMTTYPE=image/jpeg:https://archivio.mostradoltremare.it/wp-content/uploads/2016/06/th_im_1461079231-ordine.jpg
END:VEVENT
END:VCALENDAR