BEGIN:VCALENDAR
VERSION:2.0
PRODID:-//Mostra d&#039;Oltremare di Napoli - ECPv5.0.3.1//NONSGML v1.0//EN
CALSCALE:GREGORIAN
METHOD:PUBLISH
X-WR-CALNAME:Mostra d&#039;Oltremare di Napoli
X-ORIGINAL-URL:https://archivio.mostradoltremare.it
X-WR-CALDESC:Eventi per Mostra d&#039;Oltremare di Napoli
BEGIN:VTIMEZONE
TZID:UTC
BEGIN:STANDARD
TZOFFSETFROM:+0000
TZOFFSETTO:+0000
TZNAME:UTC
DTSTART:20170101T000000
END:STANDARD
END:VTIMEZONE
BEGIN:VEVENT
DTSTART;TZID=UTC:20171125T100000
DTEND;TZID=UTC:20171126T203000
DTSTAMP:20260421T094324
CREATED:20170704T132825Z
LAST-MODIFIED:20171124T185436Z
UID:5878-1511604000-1511728200@archivio.mostradoltremare.it
SUMMARY:Fiera del Baratto e dell'Usato - Edizione Autunno 2017
DESCRIPTION:La cultura del riciclo. \nIngresso Piazzale Tecchio \nPrezzo biglietto Euro 5\,00 – Omaggio per under 12 ed over 70 \n \n
URL:https://archivio.mostradoltremare.it/event/fiera-del-baratto-e-dellusato-edizione-autunno-2017/
LOCATION:Padiglioni 1\, 2\, 3\, 3B\, area Merchandising\, Piazzale Tecchio\, Napoli\, 80125
CATEGORIES:Fiera
ATTACH;FMTTYPE=image/gif:https://archivio.mostradoltremare.it/wp-content/uploads/2017/07/381-bidonville.gif
ORGANIZER;CN="Bidonville%202.0%20sas%20di%20Consiglia%20Auletta":MAILTO:bidon@bidonville.org
END:VEVENT
END:VCALENDAR