BEGIN:VCALENDAR
VERSION:2.0
PRODID:-//Mostra d&#039;Oltremare di Napoli - ECPv5.0.3.1//NONSGML v1.0//EN
CALSCALE:GREGORIAN
METHOD:PUBLISH
X-WR-CALNAME:Mostra d&#039;Oltremare di Napoli
X-ORIGINAL-URL:https://archivio.mostradoltremare.it
X-WR-CALDESC:Eventi per Mostra d&#039;Oltremare di Napoli
BEGIN:VTIMEZONE
TZID:UTC
BEGIN:STANDARD
TZOFFSETFROM:+0000
TZOFFSETTO:+0000
TZNAME:UTC
DTSTART:20170101T000000
END:STANDARD
END:VTIMEZONE
BEGIN:VEVENT
DTSTART;VALUE=DATE:20170612
DTEND;VALUE=DATE:20170613
DTSTAMP:20260420T123821
CREATED:20170609T120904Z
LAST-MODIFIED:20170609T121049Z
UID:5760-1497225600-1497311999@archivio.mostradoltremare.it
SUMMARY:Giochi senza barriere 2017
DESCRIPTION:Una festa per i nostri figli disabili e non solo. \nLaboratori\, attività\, gonfiabili\, sport\, gastronomia\, musica dal vivo. \nIngresso Via Terracina \n
URL:https://archivio.mostradoltremare.it/event/giochi-senza-barriere-2017/
LOCATION:Aree esterne\, Napoli
CATEGORIES:Parco
ATTACH;FMTTYPE=image/jpeg:https://archivio.mostradoltremare.it/wp-content/uploads/2017/06/Locandina-2017.jpg
ORGANIZER;CN="Associazione%20Tutti%20a%20scuola%20Onlus":MAILTO:info@tuttiascuola.org
END:VEVENT
END:VCALENDAR