BEGIN:VCALENDAR
VERSION:2.0
PRODID:-//Mostra d&#039;Oltremare di Napoli - ECPv5.0.3.1//NONSGML v1.0//EN
CALSCALE:GREGORIAN
METHOD:PUBLISH
X-WR-CALNAME:Mostra d&#039;Oltremare di Napoli
X-ORIGINAL-URL:https://archivio.mostradoltremare.it
X-WR-CALDESC:Eventi per Mostra d&#039;Oltremare di Napoli
BEGIN:VTIMEZONE
TZID:UTC
BEGIN:STANDARD
TZOFFSETFROM:+0000
TZOFFSETTO:+0000
TZNAME:UTC
DTSTART:20160101T000000
END:STANDARD
END:VTIMEZONE
BEGIN:VEVENT
DTSTART;TZID=UTC:20161014T150000
DTEND;TZID=UTC:20161014T190000
DTSTAMP:20260421T074559
CREATED:20160927T103950Z
LAST-MODIFIED:20161011T145751Z
UID:2962-1476457200-1476471600@archivio.mostradoltremare.it
SUMMARY:I^ Giornata Nazionale della Mediazione Civile e Commerciale
DESCRIPTION:La mediazione nella visione della magistratura\, l’esperienza del mondo accademico\, la comunicazione della cultura conciliativa. \nIngresso auto: Via Terracina – Ingresso pedonale: Viale Kennedy \n  \nOrganizzazione: \nConcilia Lex S.p.A. \nVia Matteotti 30 – 84014 Nocera Inferiore (SA) \ntel 800482977 – fax 0815176623 \nsegreteria@concilialex.it \n  \n
URL:https://archivio.mostradoltremare.it/event/giornata-nazionale-della-mediazione-civile-commerciale/
LOCATION:Sala Ischia del Palacongressi
CATEGORIES:Congresso
ATTACH;FMTTYPE=image/jpeg:https://archivio.mostradoltremare.it/wp-content/uploads/2016/09/14500364_1189942547744217_777628625228471222_o.jpg
END:VEVENT
END:VCALENDAR