BEGIN:VCALENDAR
VERSION:2.0
PRODID:-//Mostra d&#039;Oltremare di Napoli - ECPv5.0.3.1//NONSGML v1.0//EN
CALSCALE:GREGORIAN
METHOD:PUBLISH
X-WR-CALNAME:Mostra d&#039;Oltremare di Napoli
X-ORIGINAL-URL:https://archivio.mostradoltremare.it
X-WR-CALDESC:Eventi per Mostra d&#039;Oltremare di Napoli
BEGIN:VTIMEZONE
TZID:UTC
BEGIN:STANDARD
TZOFFSETFROM:+0000
TZOFFSETTO:+0000
TZNAME:UTC
DTSTART:20170101T000000
END:STANDARD
END:VTIMEZONE
BEGIN:VEVENT
DTSTART;TZID=UTC:20170528T170000
DTEND;TZID=UTC:20170528T230000
DTSTAMP:20260420T155606
CREATED:20170309T142229Z
LAST-MODIFIED:20170524T082641Z
UID:5151-1495990800-1496012400@archivio.mostradoltremare.it
SUMMARY:Gran Prix di Fitness
DESCRIPTION:Evento di Body Building  ad inviti \n  \nIngressi: Viale Kennedy e Via Terracina \n
URL:https://archivio.mostradoltremare.it/event/gran-prix-di-fitness/
LOCATION:Teatro Mediterraneo e Piazzale antistante\, Viale J.F.Kennedy 54\, Napoli\, 80125
CATEGORIES:Sportivo
ORGANIZER;CN="ASD%20Happy%20Fitness%20Gym":MAILTO:napolibigpower@libero.it
END:VEVENT
END:VCALENDAR