BEGIN:VCALENDAR
VERSION:2.0
PRODID:-//Mostra d&#039;Oltremare di Napoli - ECPv5.0.3.1//NONSGML v1.0//EN
CALSCALE:GREGORIAN
METHOD:PUBLISH
X-WR-CALNAME:Mostra d&#039;Oltremare di Napoli
X-ORIGINAL-URL:https://archivio.mostradoltremare.it
X-WR-CALDESC:Eventi per Mostra d&#039;Oltremare di Napoli
BEGIN:VTIMEZONE
TZID:UTC
BEGIN:STANDARD
TZOFFSETFROM:+0000
TZOFFSETTO:+0000
TZNAME:UTC
DTSTART:20170101T000000
END:STANDARD
END:VTIMEZONE
BEGIN:VEVENT
DTSTART;TZID=UTC:20171119T100000
DTEND;TZID=UTC:20171121T183000
DTSTAMP:20260419T180227
CREATED:20170914T104505Z
LAST-MODIFIED:20170914T104505Z
UID:6093-1511085600-1511289000@archivio.mostradoltremare.it
SUMMARY:Gustus 2017 - 4^ edizione
DESCRIPTION:Expo Area\, Show Cooking di Chef stellati\, Area Conferenze e Formazione in collaborazione con l’Università Federico II di Napoli\, Meet&Match Internazionalizzazione in collaborazione con l’ICE\, Meet&Match Horeca \nQuest’anno verrà ospitato anche il 29° Congresso Nazionale della Federazione Italiana Cuochi. \nSalone riservato agli operatori economici. Preaccredito su www.gustusnapoli.com. \nIngresso Piazzale Tecchio \n
URL:https://archivio.mostradoltremare.it/event/gustus-2017-4-edizione/
LOCATION:Padiglione 1\, Piazzale Tecchio\, Napoli\, 80125
CATEGORIES:Fiera
ATTACH;FMTTYPE=image/jpeg:https://archivio.mostradoltremare.it/wp-content/uploads/2017/09/732x381px_Gustus-logo-con-date-vert.jpg
ORGANIZER;CN="Progecta%20s.r.l.":MAILTO:info@gustusnapoli.com
END:VEVENT
END:VCALENDAR