BEGIN:VCALENDAR
VERSION:2.0
PRODID:-//Mostra d&#039;Oltremare di Napoli - ECPv5.0.3.1//NONSGML v1.0//EN
CALSCALE:GREGORIAN
METHOD:PUBLISH
X-WR-CALNAME:Mostra d&#039;Oltremare di Napoli
X-ORIGINAL-URL:https://archivio.mostradoltremare.it
X-WR-CALDESC:Eventi per Mostra d&#039;Oltremare di Napoli
BEGIN:VTIMEZONE
TZID:UTC
BEGIN:STANDARD
TZOFFSETFROM:+0000
TZOFFSETTO:+0000
TZNAME:UTC
DTSTART:20170101T000000
END:STANDARD
END:VTIMEZONE
BEGIN:VEVENT
DTSTART;TZID=UTC:20170507T090000
DTEND;TZID=UTC:20170507T200000
DTSTAMP:20260420T141754
CREATED:20170215T120719Z
LAST-MODIFIED:20170424T205439Z
UID:4737-1494147600-1494187200@archivio.mostradoltremare.it
SUMMARY:Hobby Toys - 4^ edizione
DESCRIPTION:Borsa scambio del giocattolo da collezione & modellismo. \n  \n
URL:https://archivio.mostradoltremare.it/event/hobby-toys-4-edizione/
LOCATION:Cubo d’Oro\, Viale Kennedy 54\, Napoli
CATEGORIES:Fiera,Parco
ATTACH;FMTTYPE=image/jpeg:https://archivio.mostradoltremare.it/wp-content/uploads/2017/02/hobby_toys_napoli.jpg
ORGANIZER;CN="Bidonville%202.0%20sas":MAILTO:bidon@bidonville.org
END:VEVENT
END:VCALENDAR