BEGIN:VCALENDAR
VERSION:2.0
PRODID:-//Mostra d&#039;Oltremare di Napoli - ECPv5.0.3.1//NONSGML v1.0//EN
CALSCALE:GREGORIAN
METHOD:PUBLISH
X-WR-CALNAME:Mostra d&#039;Oltremare di Napoli
X-ORIGINAL-URL:https://archivio.mostradoltremare.it
X-WR-CALDESC:Eventi per Mostra d&#039;Oltremare di Napoli
BEGIN:VTIMEZONE
TZID:UTC
BEGIN:STANDARD
TZOFFSETFROM:+0000
TZOFFSETTO:+0000
TZNAME:UTC
DTSTART:20180101T000000
END:STANDARD
END:VTIMEZONE
BEGIN:VEVENT
DTSTART;TZID=UTC:20180802T210000
DTEND;TZID=UTC:20180802T233000
DTSTAMP:20260419T121101
CREATED:20180307T154033Z
LAST-MODIFIED:20180614T141906Z
UID:7189-1533243600-1533252600@archivio.mostradoltremare.it
SUMMARY:Il Lago dei Cigni
DESCRIPTION:Il Balletto di San Pietroburgo porta in scena il celebre balletto musicato da P. I. Tchajkovskij e con le coreografie di Marius Petipa. \nPrezzi biglietti: \n\ncavea bassa Premium = Euro 42\,00 + diritti di prevendita\ncavea bassa Gold = Euro 36\,00 + diritti di prevendita\ncavea alta numerata = Euro 30\,00 + diritti di prevendita\npanoramica = Euro 25\,00 + diritti di prevendita\n\n
URL:https://archivio.mostradoltremare.it/event/lago-dei-cigni/
LOCATION:Arena Flegrea\, Via Terracina 197\, Napoli\, 80125
CATEGORIES:Spettacolo
ATTACH;FMTTYPE=image/png:https://archivio.mostradoltremare.it/wp-content/uploads/2018/03/cigni-2018.png
ORGANIZER;CN="Come%20on%20Web%20srl":MAILTO:info@etes.it
END:VEVENT
END:VCALENDAR