BEGIN:VCALENDAR
VERSION:2.0
PRODID:-//Mostra d&#039;Oltremare di Napoli - ECPv5.0.3.1//NONSGML v1.0//EN
CALSCALE:GREGORIAN
METHOD:PUBLISH
X-WR-CALNAME:Mostra d&#039;Oltremare di Napoli
X-ORIGINAL-URL:https://archivio.mostradoltremare.it
X-WR-CALDESC:Eventi per Mostra d&#039;Oltremare di Napoli
BEGIN:VTIMEZONE
TZID:UTC
BEGIN:STANDARD
TZOFFSETFROM:+0000
TZOFFSETTO:+0000
TZNAME:UTC
DTSTART:20180101T000000
END:STANDARD
END:VTIMEZONE
BEGIN:VEVENT
DTSTART;TZID=UTC:20180425T100000
DTEND;TZID=UTC:20180425T130000
DTSTAMP:20260419T221326
CREATED:20180423T132641Z
LAST-MODIFIED:20180423T132641Z
UID:7460-1524650400-1524661200@archivio.mostradoltremare.it
SUMMARY:Liberi Tutti
DESCRIPTION:Evento nazionale per aiutare i cani che si trovano nei canili. \nIngresso Via Marconi. \nIl pubblico visitatore è tenuto al rispetto del Regolamento del Parco. \nIngresso Euro 1\,00 – gratis per i bambini fino a 12 anni e gli anziani over 65 anni \n  \n
URL:https://archivio.mostradoltremare.it/event/liberi-tutti/
LOCATION:esterno adiacenze Fontana Esedra\, Via Marconi\, Napoli
CATEGORIES:Parco
ATTACH;FMTTYPE=image/jpeg:https://archivio.mostradoltremare.it/wp-content/uploads/2018/04/liberi-tutti.jpg
ORGANIZER;CN="ASD%20Attenti%20al%20cane":MAILTO:info@asdattentialcane.it
END:VEVENT
END:VCALENDAR