BEGIN:VCALENDAR
VERSION:2.0
PRODID:-//Mostra d&#039;Oltremare di Napoli - ECPv5.0.3.1//NONSGML v1.0//EN
CALSCALE:GREGORIAN
METHOD:PUBLISH
X-WR-CALNAME:Mostra d&#039;Oltremare di Napoli
X-ORIGINAL-URL:https://archivio.mostradoltremare.it
X-WR-CALDESC:Eventi per Mostra d&#039;Oltremare di Napoli
BEGIN:VTIMEZONE
TZID:UTC
BEGIN:STANDARD
TZOFFSETFROM:+0000
TZOFFSETTO:+0000
TZNAME:UTC
DTSTART:20170101T000000
END:STANDARD
END:VTIMEZONE
BEGIN:VEVENT
DTSTART;TZID=UTC:20170801T213000
DTEND;TZID=UTC:20170801T233000
DTSTAMP:20260419T121116
CREATED:20170508T105943Z
LAST-MODIFIED:20170801T083019Z
UID:5512-1501623000-1501630200@archivio.mostradoltremare.it
SUMMARY:LP Live Tour
DESCRIPTION:Appuntamento del Noisy Naples Fest. \nTour estivo della cantautrice statunitense\, di origini italiane\, Laura Pergolizzi che è salita alla ribalta con il singolo Lost on you. Vincitrice di tre Dischi di platino e di un Disco d’oro. Il suo stile\, il suo look e la sua voce ricordano i grandi nomi del rock femminile degli anni ’70 ed ’80. \nApertura cancelli ore 19\,00 – Ingresso e parcheggio: Via Terracina \nPrezzi biglietti: Cavea alta= Euro 30\,00 – Cavea bassa= Euro 40\,00 – biglietti presso prevendite autorizzate circuiti www.etes.it e www.ticketone.it \n  \n
URL:https://archivio.mostradoltremare.it/event/lp-in-concerto/
LOCATION:Arena Flegrea\, Via Terracina 197\, Napoli\, 80125
CATEGORIES:Spettacolo
ATTACH;FMTTYPE=image/jpeg:https://archivio.mostradoltremare.it/wp-content/uploads/2017/05/381-LP.jpg
ORGANIZER;CN="Come%20on%20Web%20srl":MAILTO:info@etes.it
END:VEVENT
END:VCALENDAR