BEGIN:VCALENDAR
VERSION:2.0
PRODID:-//Mostra d&#039;Oltremare di Napoli - ECPv5.0.3.1//NONSGML v1.0//EN
CALSCALE:GREGORIAN
METHOD:PUBLISH
X-WR-CALNAME:Mostra d&#039;Oltremare di Napoli
X-ORIGINAL-URL:https://archivio.mostradoltremare.it
X-WR-CALDESC:Eventi per Mostra d&#039;Oltremare di Napoli
BEGIN:VTIMEZONE
TZID:UTC
BEGIN:STANDARD
TZOFFSETFROM:+0000
TZOFFSETTO:+0000
TZNAME:UTC
DTSTART:20180101T000000
END:STANDARD
END:VTIMEZONE
BEGIN:VEVENT
DTSTART;TZID=UTC:20180210T083000
DTEND;TZID=UTC:20180210T140000
DTSTAMP:20260420T011306
CREATED:20180202T102523Z
LAST-MODIFIED:20180202T102523Z
UID:6931-1518251400-1518271200@archivio.mostradoltremare.it
SUMMARY:Come migliorare la gestione dei disastri ambientali e non: opportunità per una rete comune di agenzie di formazione dell'U.E.
DESCRIPTION:Workshop europeo \n
URL:https://archivio.mostradoltremare.it/event/migliorare-la-gestione-dei-disastri-ambientali-non-opportunita-rete-comune-agenzie-formazione-dellu/
LOCATION:Sala Italia\, Napoli\, 80125
CATEGORIES:Congresso
ATTACH;FMTTYPE=image/jpeg:https://archivio.mostradoltremare.it/wp-content/uploads/2018/02/SMEs-academy-avignon.jpg
ORGANIZER;CN="SMEs%20Academy%20Avignon":MAILTO:info@europeansmeacademy.eu
END:VEVENT
END:VCALENDAR