BEGIN:VCALENDAR
VERSION:2.0
PRODID:-//Mostra d&#039;Oltremare di Napoli - ECPv5.0.3.1//NONSGML v1.0//EN
CALSCALE:GREGORIAN
METHOD:PUBLISH
X-WR-CALNAME:Mostra d&#039;Oltremare di Napoli
X-ORIGINAL-URL:https://archivio.mostradoltremare.it
X-WR-CALDESC:Eventi per Mostra d&#039;Oltremare di Napoli
BEGIN:VTIMEZONE
TZID:UTC
BEGIN:STANDARD
TZOFFSETFROM:+0000
TZOFFSETTO:+0000
TZNAME:UTC
DTSTART:20170101T000000
END:STANDARD
END:VTIMEZONE
BEGIN:VEVENT
DTSTART;TZID=UTC:20170513T100000
DTEND;TZID=UTC:20170514T190000
DTSTAMP:20260420T155525
CREATED:20170508T094409Z
LAST-MODIFIED:20170508T095533Z
UID:5499-1494669600-1494788400@archivio.mostradoltremare.it
SUMMARY:Napoli Bike Festival 2017 - 6^ edizione
DESCRIPTION:Appuntamento di rilevanza nazionale dedicato alla promozione della cultura della bicicletta: il 12 maggio presso Galleria Principe di Napoli e quartieri cittadini\, il 13 e 14 maggio presso Mostra d’Oltremare. \nArea expo\, concorso Bike Designers\, spettacoli\, area kids\, pump-track challenge\, Bike tour per tutte le difficoltà\, Ciclofficina. \nIngresso: Viale Kennedy \n  \n
URL:https://archivio.mostradoltremare.it/event/napoli-bike-festival-2017-6-edizione/
LOCATION:Aree esterne\, Napoli
CATEGORIES:Fiera,Parco
ATTACH;FMTTYPE=image/jpeg:https://archivio.mostradoltremare.it/wp-content/uploads/2017/05/381-bike-festival.jpg
ORGANIZER;CN="Associazione%20Napoli%20Pedala":MAILTO:info@napolibikefestival.it
END:VEVENT
END:VCALENDAR