BEGIN:VCALENDAR
VERSION:2.0
PRODID:-//Mostra d&#039;Oltremare di Napoli - ECPv5.0.3.1//NONSGML v1.0//EN
CALSCALE:GREGORIAN
METHOD:PUBLISH
X-WR-CALNAME:Mostra d&#039;Oltremare di Napoli
X-ORIGINAL-URL:https://archivio.mostradoltremare.it
X-WR-CALDESC:Eventi per Mostra d&#039;Oltremare di Napoli
BEGIN:VTIMEZONE
TZID:UTC
BEGIN:STANDARD
TZOFFSETFROM:+0000
TZOFFSETTO:+0000
TZNAME:UTC
DTSTART:20170101T000000
END:STANDARD
END:VTIMEZONE
BEGIN:VEVENT
DTSTART;TZID=UTC:20170203T000000
DTEND;TZID=UTC:20170205T000000
DTSTAMP:20260420T201052
CREATED:20170117T112809Z
LAST-MODIFIED:20170127T115431Z
UID:3689-1486080000-1486252800@archivio.mostradoltremare.it
SUMMARY:Napoli City Half Marathon 2017 - 4^ edizione
DESCRIPTION:Area Expo e Gara Podistica \nOrari Area Expo = venerdì dalle 16\,00 alle 20\,00 – sabato dalle 10\,00 alle 20\,00 – domenica dalle 7\,00 alle 13\,00 \nGara Podistica di Domenica 5 febbraio = inizio ore 8\,30 con partenza da Viale Kennedy – premiazione ore 12\,00 presso padiglione 3B \nGara Podistica sulla distanza di km 21\,097\, col Patrocinio del Comune di Napoli\, ed inserita nei calendari IAAF\, AIMS E FIDAL. Ritrovo in Mostra ore 7\,30 e partenza ore 8\,30. La gara sarà valida anche quale Trofeo delle Professioni Sanitarie\, considerando in questo ambito tutte le professioni indicate dal Ministero della Salute. \nInsieme alla Mezza Maratona partirà la prima edizione della Family Run. Ciascun atleta\, iscivendo da uno a quattro parenti/amici\, potrà partecipare alla Family Cup. La Family Run for Save the Children è una gara non agonistica di tre km che avrà partenza e arrivo negli stessi punti previsti per la gara agonistica: a tutti i partecipanti verranno offerti gadget e ristoro all’arrivo. Sarà possibile iscriversi alla Family Run anche in expo\, venerdì 3 febbraio dalle 16 alle 20 e sabato 4 febbraio dalle 10 alle 20: l’incasso verrà devoluto a Save the Children. \nOrganizzazione: \nNapoli Running s.r.l. – www.napolirunning.com – info@napolimohm.org \nIngressi: PiazzaleTecchio\, Viale Kennedy \n
URL:https://archivio.mostradoltremare.it/event/napoli-city-half-marathon-2017-4-edizione/
LOCATION:Spazi esterni\, padiglioni 2\, 3\, 3B\, Piazzale Tecchio\, Napoli\, 80125
CATEGORIES:Fiera,Parco,Sportivo
ATTACH;FMTTYPE=image/jpeg:https://archivio.mostradoltremare.it/wp-content/uploads/2017/01/image-half-marathon.jpg
END:VEVENT
END:VCALENDAR