BEGIN:VCALENDAR
VERSION:2.0
PRODID:-//Mostra d&#039;Oltremare di Napoli - ECPv5.0.3.1//NONSGML v1.0//EN
CALSCALE:GREGORIAN
METHOD:PUBLISH
X-WR-CALNAME:Mostra d&#039;Oltremare di Napoli
X-ORIGINAL-URL:https://archivio.mostradoltremare.it
X-WR-CALDESC:Eventi per Mostra d&#039;Oltremare di Napoli
BEGIN:VTIMEZONE
TZID:UTC
BEGIN:STANDARD
TZOFFSETFROM:+0000
TZOFFSETTO:+0000
TZNAME:UTC
DTSTART:20180101T000000
END:STANDARD
END:VTIMEZONE
BEGIN:VEVENT
DTSTART;TZID=UTC:20180202T140000
DTEND;TZID=UTC:20180204T140000
DTSTAMP:20260420T011220
CREATED:20180131T111224Z
LAST-MODIFIED:20180131T111224Z
UID:6894-1517580000-1517752800@archivio.mostradoltremare.it
SUMMARY:Napoli City Half Marathon 2018 - 5^ edizione
DESCRIPTION:Evento internazionale con partecipanti provenienti da oltre 40 Paesi. Partenza della NCHM alle ore 8\,30 di domenica 4 febbraio 2018 da Viale Kennedy\, con ingresso atleti alle ore 6\,45. La maratona si articolerà in alcuni dei luoghi più belli di Napoli\, quali il Lungomare\, Piazza Plebiscito\, Mergellina\, etc. e terminerà alla Mostra d’Oltremare. \nApertura Area espositiva: venerdì 2 febbraio dalle 14\,00 alle 21\,00 – sabato 3 febbraio dalle 10\,00 alle 21\,00 – domenica 4 febbraio dalle 6\,30 alle 14\,00 \nE’ inoltre prevista una gara non competitiva\, la Family Run and Friends di 2 km\, sabato 3 febbraio alle ore 10\,00\, con percorso all’interno della Mostra d’Oltremare \n
URL:https://archivio.mostradoltremare.it/event/napoli-city-half-marathon-2018-5-edizione/
LOCATION:Aree esterne\, Teatro Mediterraneo\, Palacongressi\, Ristorante della Piscina\, Viale J.F.Kennedy 54\, Napoli
CATEGORIES:Parco,Sportivo
ATTACH;FMTTYPE=image/png:https://archivio.mostradoltremare.it/wp-content/uploads/2018/01/napoli-city-half-marathon-2018.png
ORGANIZER;CN="ASD%20NAPOLI%20RUNNING":MAILTO:info@napolirunning.com
END:VEVENT
END:VCALENDAR