BEGIN:VCALENDAR
VERSION:2.0
PRODID:-//Mostra d&#039;Oltremare di Napoli - ECPv5.0.3.1//NONSGML v1.0//EN
CALSCALE:GREGORIAN
METHOD:PUBLISH
X-WR-CALNAME:Mostra d&#039;Oltremare di Napoli
X-ORIGINAL-URL:https://archivio.mostradoltremare.it
X-WR-CALDESC:Eventi per Mostra d&#039;Oltremare di Napoli
BEGIN:VTIMEZONE
TZID:UTC
BEGIN:STANDARD
TZOFFSETFROM:+0000
TZOFFSETTO:+0000
TZNAME:UTC
DTSTART:20180101T000000
END:STANDARD
END:VTIMEZONE
BEGIN:VEVENT
DTSTART;TZID=UTC:20180210T103000
DTEND;TZID=UTC:20180218T203000
DTSTAMP:20260419T234201
CREATED:20170411T140350Z
LAST-MODIFIED:20180214T110023Z
UID:5383-1518258600-1518985800@archivio.mostradoltremare.it
SUMMARY:Nauticsud 2018 - 45^ edizione
DESCRIPTION:Salone Internazionale della Nautica – Il grande spettacolo del mare.  In esposizione: imbarcazioni a motore\, gozzi\, gommoni\, accessori per la nautica\, moto d’acqua\, tavole a vela\, canoe e derive\, servizi. \nIn collaborazione con l’A.N.R.C. (Associazione Nautica Regionale Campana) – segreteria@anrc.it – 08119465946 \nOrari apertura: \ndal lunedì al giovedì: 12\,30-19\,00 – dal venerdì alla domenica: 10\,30-20\,30 \nPrezzi biglietti: \nIngresso: Euro 10\,00 \nScolaresche: Euro 6\,00 \nGratuito per bambini fino a 12 anni con accompagnatore pagante \nGratuito per persone con disabilità e per i loro accompagnatori. \nAcquista il biglietto online  \nAvviso!! Si comunica che\, a causa di acquisti on line illeciti con utilizzo di carte di credito clonate\, la vendita dei biglietti on-line è stata interrotta. Si potrà acquistare il biglietto di entrata presso biglietteria principale dell’evento di P. le Tecchio \nAccredito giornalisti -muniti di tesserino dell’Ordine o lettera di presentazione della testata- presso biglietteria principale di Piazzale Tecchio. \nIngressi e Biglietterie: Piazzale Tecchio\, Viale Kennedy \nManifestazioni collaterali: \nConvegno “Nuovo codice UCINA e la fiscalità del mare”\, 14 febbraio ore 15\,30 presso Pad.10 (a cura dell’ANRC) \nConvegno “La nautica e il redditometro”\, 15 febbraio ore 15\,30 presso Pad.10 (a cura dell’Ordine dei Commercialisti di Napoli) \nEvento “E’ vela in Campania”\, 16 febbraio ore 10\,30 presso Pad.10 (a cura del Comitato Regionale FIV\, V zona) \nWorkshop “Mare\, porto\, retroterra. Un paradigma economico di crescita territoriale”\, 16 febbraio ore 15\,30 presso Pad.10 (a cura dell’Università Federico II) \nSerata ad inviti “Nauticsud Award” ai produttori (categorie innovazione tecnologica\, progetto ecosostenibile e progetti giovanili)\, 16 febbraio ore 21\,00 presso Teatro Mediterraneo \nLezione “Master Pianificazione e progettazione sostenibili delle aree portuali”\, 17 febbraio ore 9\,30 presso Pad.10 (a cura dell’Università Federico II) \n  \n
URL:https://archivio.mostradoltremare.it/event/nauticsud-2018-45-edizione/
LOCATION:Padiglioni 1\,2\,3\,3B\,4\,5\,6\,10+area 28 Fontane\, Piazzale Tecchio e Viale Kennedy\, Napoli\, 80125
CATEGORIES:Fiera
ATTACH;FMTTYPE=image/png:https://archivio.mostradoltremare.it/wp-content/uploads/2017/04/nauticsud-732x381-eventi.png
ORGANIZER;CN="A.N.R.C.%20e%20Mostra%20d%27Oltremare%20S.p.A.":MAILTO:segreteria@anrc.it
END:VEVENT
END:VCALENDAR