BEGIN:VCALENDAR
VERSION:2.0
PRODID:-//Mostra d&#039;Oltremare di Napoli - ECPv5.0.3.1//NONSGML v1.0//EN
CALSCALE:GREGORIAN
METHOD:PUBLISH
X-WR-CALNAME:Mostra d&#039;Oltremare di Napoli
X-ORIGINAL-URL:https://archivio.mostradoltremare.it
X-WR-CALDESC:Eventi per Mostra d&#039;Oltremare di Napoli
BEGIN:VTIMEZONE
TZID:UTC
BEGIN:STANDARD
TZOFFSETFROM:+0000
TZOFFSETTO:+0000
TZNAME:UTC
DTSTART:20160101T000000
END:STANDARD
END:VTIMEZONE
BEGIN:VEVENT
DTSTART;VALUE=DATE:20161203
DTEND;VALUE=DATE:20161204
DTSTAMP:20260420T212925
CREATED:20161130T150403Z
LAST-MODIFIED:20161202T132730Z
UID:3381-1480723200-1480809599@archivio.mostradoltremare.it
SUMMARY:Oltre i diritti: disabilità e imprese
DESCRIPTION:Convegno “Oltre i diritti” – Tavola rotonda “Impresa senza barriere” \nIn occasione della Giornata Internazionale delle Persone con Disabilità\, un convegno dedicato alla disabilità che affronta la tematica da un punto di vista diverso\, il punto di vista delle imprese.\nQuesta giornata vuole essere un momento in cui porre al centro dell’attenzione del nostro contesto di riferimento il tema della disabilità\, non più solo come una giusta affermazione di diritti quanto\, anche\, la voglia di essere soggetti con bisogni e desideri\, troppo spesso non considerati. Intervengono rappresentanti delle Istituzioni\, del Mondo Accademico\, dell’Impresa\, dell’Associazionismo. Coordina Ettore De Lorenzo. \nInizio ore 9\,30 – Ingresso Viale Kennedy \n
URL:https://archivio.mostradoltremare.it/event/oltre-diritti-disabilita-imprese/
LOCATION:Sala Italia\, Viale Kennedy 54\, Napoli\, 80125
CATEGORIES:Congresso
ATTACH;FMTTYPE=image/png:https://archivio.mostradoltremare.it/wp-content/uploads/2016/11/Teatro.png
END:VEVENT
END:VCALENDAR