BEGIN:VCALENDAR
VERSION:2.0
PRODID:-//Mostra d&#039;Oltremare di Napoli - ECPv5.0.3.1//NONSGML v1.0//EN
CALSCALE:GREGORIAN
METHOD:PUBLISH
X-WR-CALNAME:Mostra d&#039;Oltremare di Napoli
X-ORIGINAL-URL:https://archivio.mostradoltremare.it
X-WR-CALDESC:Eventi per Mostra d&#039;Oltremare di Napoli
BEGIN:VTIMEZONE
TZID:UTC
BEGIN:STANDARD
TZOFFSETFROM:+0000
TZOFFSETTO:+0000
TZNAME:UTC
DTSTART:20180101T000000
END:STANDARD
END:VTIMEZONE
BEGIN:VEVENT
DTSTART;TZID=UTC:20180630T210000
DTEND;TZID=UTC:20180630T233000
DTSTAMP:20260419T135845
CREATED:20180305T134719Z
LAST-MODIFIED:20180423T125627Z
UID:7178-1530392400-1530401400@archivio.mostradoltremare.it
SUMMARY:Paul Kalkbrenner in Concerto
DESCRIPTION:Prezzi biglietti: \n\ncavea alta Euro 30\,00 + diritti di prevendita\ncavea bassa Euro 40\,00 + diritti di prevendita\n\n
URL:https://archivio.mostradoltremare.it/event/paul-kalkbrenner-concerto/
LOCATION:Arena Flegrea\, Via Terracina 197\, Napoli\, 80125
CATEGORIES:Spettacolo
ATTACH;FMTTYPE=image/png:https://archivio.mostradoltremare.it/wp-content/uploads/2018/03/untitled.png
ORGANIZER;CN="Come%20on%20Web%20srl":MAILTO:info@etes.it
END:VEVENT
END:VCALENDAR