BEGIN:VCALENDAR
VERSION:2.0
PRODID:-//Mostra d&#039;Oltremare di Napoli - ECPv5.0.3.1//NONSGML v1.0//EN
CALSCALE:GREGORIAN
METHOD:PUBLISH
X-WR-CALNAME:Mostra d&#039;Oltremare di Napoli
X-ORIGINAL-URL:https://archivio.mostradoltremare.it
X-WR-CALDESC:Eventi per Mostra d&#039;Oltremare di Napoli
BEGIN:VTIMEZONE
TZID:UTC
BEGIN:STANDARD
TZOFFSETFROM:+0000
TZOFFSETTO:+0000
TZNAME:UTC
DTSTART:20160101T000000
END:STANDARD
END:VTIMEZONE
BEGIN:VEVENT
DTSTART;TZID=UTC:20160924T100000
DTEND;TZID=UTC:20160925T190000
DTSTAMP:20260421T015022
CREATED:20160630T082207Z
LAST-MODIFIED:20160902T102055Z
UID:2455-1474711200-1474830000@archivio.mostradoltremare.it
SUMMARY:Quattro Zampe In Fiera 2016 - 3^ edizione
DESCRIPTION:Per conoscere il tuo migliore amico e divertirti con lui.\nL’unica rassegna dedicata a tutti gli amanti degli animali ed alle aziende che si occupano del mondo Pet\, grande evento ideato per far incontrare migliaia di proprietari di cani e gatti da tutta Italia che non vedono l’ora di vivere insieme due giorni di novità\, divertimento\, informazione e acquisti.\nDog Activities\, Risto4zampe\, Dog Carpet Show\, Luxury Box\, Salone di bellezza\, Felis & Dogs World\, servizi ed attività nell’area verde all’esterno. \n\n\n\nOrganizzatore\n\n\n\n\n\n\nTEMA FIERE SRL\n\n\nPIAZZA GIORGIO LA PIRA 24 \n20851 LISSONE (MB)\n\n\nTelefono: 3295936337\n\n\nFax: 03621632092\n\n\nIndirizzo web: http://www.quattrozampeinfiera.it\n\n\nE-mail: info@quattrozampeinfiera.it\n\n\n\n\n\n\nBiglietto Intero: Euro 10\,00\n\n\n\n\n\n\nBiglietto con buono sconto: Euro 7\,00\n\n\n\n\n\n\nBiglietto acquistato online: Euro 6\,00\n\n\n\n\n\n\nBambini fino a 10 non compiuti\, cani e gatti: Ingresso Gratuito\n\n\n\n
URL:https://archivio.mostradoltremare.it/event/quattro-zampe-fiera-2016-3-edizione/
LOCATION:Padiglioni 4-5-6- Laghetto Fasilides\, Viale Kennedy 54\, Napoli
CATEGORIES:Fiera
ATTACH;FMTTYPE=image/jpeg:https://archivio.mostradoltremare.it/wp-content/uploads/2016/06/logo.jpg
END:VEVENT
END:VCALENDAR