BEGIN:VCALENDAR
VERSION:2.0
PRODID:-//Mostra d&#039;Oltremare di Napoli - ECPv5.0.3.1//NONSGML v1.0//EN
CALSCALE:GREGORIAN
METHOD:PUBLISH
X-WR-CALNAME:Mostra d&#039;Oltremare di Napoli
X-ORIGINAL-URL:https://archivio.mostradoltremare.it
X-WR-CALDESC:Eventi per Mostra d&#039;Oltremare di Napoli
BEGIN:VTIMEZONE
TZID:UTC
BEGIN:STANDARD
TZOFFSETFROM:+0000
TZOFFSETTO:+0000
TZNAME:UTC
DTSTART:20170101T000000
END:STANDARD
END:VTIMEZONE
BEGIN:VEVENT
DTSTART;TZID=UTC:20170407T090000
DTEND;TZID=UTC:20170407T130000
DTSTAMP:20260420T171709
CREATED:20170220T150610Z
LAST-MODIFIED:20170406T094843Z
UID:4865-1491555600-1491570000@archivio.mostradoltremare.it
SUMMARY:Rottura e riparazione dell'alleanza terapeutica nella psicoterapia di pazienti con trauma complesso
DESCRIPTION:Simposio di Psicoterapia. \nPartecipazione gratuita previa iscrizione entro il 31 marzo 2017. Per informazioni: corsi@apc.it \nIngresso: Viale Kennedy 54 \n
URL:https://archivio.mostradoltremare.it/event/rottura-riparazione-dellalleanza-terapeutica-nella-psicoterapia-pazienti-trauma-complesso/
LOCATION:Sala Italia\, Napoli\, 80125
CATEGORIES:Congresso
ATTACH;FMTTYPE=image/jpeg:https://archivio.mostradoltremare.it/wp-content/uploads/2017/02/7-aprile.jpg
END:VEVENT
END:VCALENDAR