BEGIN:VCALENDAR
VERSION:2.0
PRODID:-//Mostra d&#039;Oltremare di Napoli - ECPv5.0.3.1//NONSGML v1.0//EN
CALSCALE:GREGORIAN
METHOD:PUBLISH
X-WR-CALNAME:Mostra d&#039;Oltremare di Napoli
X-ORIGINAL-URL:https://archivio.mostradoltremare.it
X-WR-CALDESC:Eventi per Mostra d&#039;Oltremare di Napoli
BEGIN:VTIMEZONE
TZID:UTC
BEGIN:STANDARD
TZOFFSETFROM:+0000
TZOFFSETTO:+0000
TZNAME:UTC
DTSTART:20160101T000000
END:STANDARD
END:VTIMEZONE
BEGIN:VEVENT
DTSTART;TZID=UTC:20160910T180000
DTEND;TZID=UTC:20160910T200000
DTSTAMP:20260421T044551
CREATED:20160906T104359Z
LAST-MODIFIED:20160908T133914Z
UID:2859-1473530400-1473537600@archivio.mostradoltremare.it
SUMMARY:Run with Roma 2024
DESCRIPTION:Gara podistica\, per sostenere la candidatura olimpica italiana\, in contemporanea con altre 11 città italiane. \nL’iniziativa ha anche finalità benefiche a favore degli impianti sportivi danneggiati dal recente terremoto. \nIngresso pedonale atleti: Via Marconi\, Viale Kennedy \nParcheggio: Via Terracina \nOrganizzazione: Comitato Regionale FIDAL Campania \n  \n  \n
URL:https://archivio.mostradoltremare.it/event/run-for-rome-2024/
CATEGORIES:Parco,Sportivo
ATTACH;FMTTYPE=image/jpeg:https://archivio.mostradoltremare.it/wp-content/uploads/2016/09/381logo-run-with-roma.jpg
END:VEVENT
END:VCALENDAR