BEGIN:VCALENDAR
VERSION:2.0
PRODID:-//Mostra d&#039;Oltremare di Napoli - ECPv5.0.3.1//NONSGML v1.0//EN
CALSCALE:GREGORIAN
METHOD:PUBLISH
X-WR-CALNAME:Mostra d&#039;Oltremare di Napoli
X-ORIGINAL-URL:https://archivio.mostradoltremare.it
X-WR-CALDESC:Eventi per Mostra d&#039;Oltremare di Napoli
BEGIN:VTIMEZONE
TZID:UTC
BEGIN:STANDARD
TZOFFSETFROM:+0000
TZOFFSETTO:+0000
TZNAME:UTC
DTSTART:20180101T000000
END:STANDARD
END:VTIMEZONE
BEGIN:VEVENT
DTSTART;TZID=UTC:20180712T190000
DTEND;TZID=UTC:20180712T235900
DTSTAMP:20260419T154604
CREATED:20180228T160244Z
LAST-MODIFIED:20180709T095243Z
UID:7142-1531422000-1531439940@archivio.mostradoltremare.it
SUMMARY:Saggio di Danza ASD Accademia dello Sport Kledi Dance
DESCRIPTION:Ingresso ad  inviti \n
URL:https://archivio.mostradoltremare.it/event/saggio-danza-asd-accademia-dello-sport-kledi-dance/
LOCATION:Teatro Mediterraneo e Piazzale antistante\, Viale J.F.Kennedy 54\, Napoli\, 80125
CATEGORIES:Spettacolo
ATTACH;FMTTYPE=image/png:https://archivio.mostradoltremare.it/wp-content/uploads/2018/02/k_dance_logo.png
ORGANIZER;CN="ASD%20Accademia%20dello%20Sport":MAILTO:kledidancenapoli@hotmail.com
END:VEVENT
END:VCALENDAR