BEGIN:VCALENDAR
VERSION:2.0
PRODID:-//Mostra d&#039;Oltremare di Napoli - ECPv5.0.3.1//NONSGML v1.0//EN
CALSCALE:GREGORIAN
METHOD:PUBLISH
X-WR-CALNAME:Mostra d&#039;Oltremare di Napoli
X-ORIGINAL-URL:https://archivio.mostradoltremare.it
X-WR-CALDESC:Eventi per Mostra d&#039;Oltremare di Napoli
BEGIN:VTIMEZONE
TZID:UTC
BEGIN:STANDARD
TZOFFSETFROM:+0000
TZOFFSETTO:+0000
TZNAME:UTC
DTSTART:20180101T000000
END:STANDARD
END:VTIMEZONE
BEGIN:VEVENT
DTSTART;TZID=UTC:20180515T203000
DTEND;TZID=UTC:20180515T233000
DTSTAMP:20260419T170624
CREATED:20180214T100021Z
LAST-MODIFIED:20180510T094744Z
UID:7025-1526416200-1526427000@archivio.mostradoltremare.it
SUMMARY:Saggio di Danza dell'ASD I.E.N.E.
DESCRIPTION:
URL:https://archivio.mostradoltremare.it/event/saggio-danza-dellasd-n/
LOCATION:Teatro Mediterraneo e Piazzale antistante\, Viale J.F.Kennedy 54\, Napoli\, 80125
CATEGORIES:Spettacolo
END:VEVENT
END:VCALENDAR