BEGIN:VCALENDAR
VERSION:2.0
PRODID:-//Mostra d&#039;Oltremare di Napoli - ECPv5.0.3.1//NONSGML v1.0//EN
CALSCALE:GREGORIAN
METHOD:PUBLISH
X-WR-CALNAME:Mostra d&#039;Oltremare di Napoli
X-ORIGINAL-URL:https://archivio.mostradoltremare.it
X-WR-CALDESC:Eventi per Mostra d&#039;Oltremare di Napoli
BEGIN:VTIMEZONE
TZID:UTC
BEGIN:STANDARD
TZOFFSETFROM:+0000
TZOFFSETTO:+0000
TZNAME:UTC
DTSTART:20180101T000000
END:STANDARD
END:VTIMEZONE
BEGIN:VEVENT
DTSTART;TZID=UTC:20180615T190000
DTEND;TZID=UTC:20180615T233000
DTSTAMP:20260419T170856
CREATED:20180220T121708Z
LAST-MODIFIED:20180613T132132Z
UID:7071-1529089200-1529105400@archivio.mostradoltremare.it
SUMMARY:Saggio dell'Accademia Oltre la danza
DESCRIPTION:Ingresso ad inviti \n
URL:https://archivio.mostradoltremare.it/event/saggio-dellaccademia-oltre-la-danza/
LOCATION:Teatro Mediterraneo e Piazzale antistante\, Viale J.F.Kennedy 54\, Napoli\, 80125
CATEGORIES:Spettacolo
ORGANIZER;CN="L%27Accademia%20Oltre%20la%20Danza":MAILTO:laccademia2008@libero.it
END:VEVENT
END:VCALENDAR