BEGIN:VCALENDAR
VERSION:2.0
PRODID:-//Mostra d&#039;Oltremare di Napoli - ECPv5.0.3.1//NONSGML v1.0//EN
CALSCALE:GREGORIAN
METHOD:PUBLISH
X-WR-CALNAME:Mostra d&#039;Oltremare di Napoli
X-ORIGINAL-URL:https://archivio.mostradoltremare.it
X-WR-CALDESC:Eventi per Mostra d&#039;Oltremare di Napoli
BEGIN:VTIMEZONE
TZID:UTC
BEGIN:STANDARD
TZOFFSETFROM:+0000
TZOFFSETTO:+0000
TZNAME:UTC
DTSTART:20170101T000000
END:STANDARD
END:VTIMEZONE
BEGIN:VEVENT
DTSTART;TZID=UTC:20170514T190000
DTEND;TZID=UTC:20170514T230000
DTSTAMP:20260420T123526
CREATED:20170320T143944Z
LAST-MODIFIED:20170511T132517Z
UID:5183-1494788400-1494802800@archivio.mostradoltremare.it
SUMMARY:Saggio di Danza Origami Accademy
DESCRIPTION:
URL:https://archivio.mostradoltremare.it/event/saggio-di-danza-origami-accademy/
LOCATION:Teatro Mediterraneo e Piazzale antistante\, Viale J.F.Kennedy 54\, Napoli\, 80125
CATEGORIES:Spettacolo
ATTACH;FMTTYPE=image/jpeg:https://archivio.mostradoltremare.it/wp-content/uploads/2017/03/origami.jpg
ORGANIZER;CN="Associazione%20Origami%20Accademy%20Danza%20%26%20Spettacolo":MAILTO:origamiaccademy@virgilio.it
END:VEVENT
END:VCALENDAR