BEGIN:VCALENDAR
VERSION:2.0
PRODID:-//Mostra d&#039;Oltremare di Napoli - ECPv5.0.3.1//NONSGML v1.0//EN
CALSCALE:GREGORIAN
METHOD:PUBLISH
X-WR-CALNAME:Mostra d&#039;Oltremare di Napoli
X-ORIGINAL-URL:https://archivio.mostradoltremare.it
X-WR-CALDESC:Eventi per Mostra d&#039;Oltremare di Napoli
BEGIN:VTIMEZONE
TZID:UTC
BEGIN:STANDARD
TZOFFSETFROM:+0000
TZOFFSETTO:+0000
TZNAME:UTC
DTSTART:20190101T000000
END:STANDARD
END:VTIMEZONE
BEGIN:VEVENT
DTSTART;TZID=UTC:20190616T183000
DTEND;TZID=UTC:20190616T230000
DTSTAMP:20260420T114805
CREATED:20190218T092908Z
LAST-MODIFIED:20190612T103015Z
UID:8873-1560709800-1560726000@archivio.mostradoltremare.it
SUMMARY:Saggio SSD Life srl
DESCRIPTION:Ad  inviti. \nIngresso Viale Kennedy \n
URL:https://archivio.mostradoltremare.it/event/saggio-ssd-life-srl/
LOCATION:Teatro Mediterraneo e Piazzale antistante\, Viale J.F.Kennedy 54\, Napoli\, 80125
CATEGORIES:Spettacolo
ORGANIZER;CN="Societ%C3%A0%20Sportiva%20Dilettantistica%20Life%20srl":MAILTO:life.pianura@gmail.com
END:VEVENT
END:VCALENDAR