BEGIN:VCALENDAR
VERSION:2.0
PRODID:-//Mostra d&#039;Oltremare di Napoli - ECPv5.0.3.1//NONSGML v1.0//EN
CALSCALE:GREGORIAN
METHOD:PUBLISH
X-WR-CALNAME:Mostra d&#039;Oltremare di Napoli
X-ORIGINAL-URL:https://archivio.mostradoltremare.it
X-WR-CALDESC:Eventi per Mostra d&#039;Oltremare di Napoli
BEGIN:VTIMEZONE
TZID:UTC
BEGIN:STANDARD
TZOFFSETFROM:+0000
TZOFFSETTO:+0000
TZNAME:UTC
DTSTART:20170101T000000
END:STANDARD
END:VTIMEZONE
BEGIN:VEVENT
DTSTART;TZID=UTC:20170308T090000
DTEND;TZID=UTC:20170309T140000
DTSTAMP:20260422T083712
CREATED:20170227T141928Z
LAST-MODIFIED:20170303T083506Z
UID:4961-1488963600-1489068000@archivio.mostradoltremare.it
SUMMARY:Salone dello Studente Campus Orienta 2017
DESCRIPTION:Evento sul mondo dell’offerta formativa e sui percorsi di orientamento al lavoro nell’ambito studentesco. \nIngresso con accredito online o con registrazione all’ingresso. \nIngresso Viale Kennedy 54 \n
URL:https://archivio.mostradoltremare.it/event/salone-dello-studente-2017/
LOCATION:Padiglione 5\, Viale Kennedy 54\, Napoli\, 80125
CATEGORIES:Fiera
ATTACH;FMTTYPE=image/png:https://archivio.mostradoltremare.it/wp-content/uploads/2017/02/campus-orienta.png
END:VEVENT
END:VCALENDAR