BEGIN:VCALENDAR
VERSION:2.0
PRODID:-//Mostra d&#039;Oltremare di Napoli - ECPv5.0.3.1//NONSGML v1.0//EN
CALSCALE:GREGORIAN
METHOD:PUBLISH
X-WR-CALNAME:Mostra d&#039;Oltremare di Napoli
X-ORIGINAL-URL:https://archivio.mostradoltremare.it
X-WR-CALDESC:Eventi per Mostra d&#039;Oltremare di Napoli
BEGIN:VTIMEZONE
TZID:UTC
BEGIN:STANDARD
TZOFFSETFROM:+0000
TZOFFSETTO:+0000
TZNAME:UTC
DTSTART:20160101T000000
END:STANDARD
END:VTIMEZONE
BEGIN:VEVENT
DTSTART;VALUE=DATE:20160713
DTEND;VALUE=DATE:20160714
DTSTAMP:20260421T031203
CREATED:20160609T105937Z
LAST-MODIFIED:20160705T145540Z
UID:1913-1468368000-1468454399@archivio.mostradoltremare.it
SUMMARY:Sergio Cammariere\, Gino Paoli e Danilo Rea in "3Union"
DESCRIPTION:Inizio ore 21\,15\nIngresso e parcheggio Via Terracina \nPrezzi:  \npanoramica Euro 15\,00 – cavea alta Euro 35\,00 – cavea bassa Euro 45\,00 \n
URL:https://archivio.mostradoltremare.it/event/sergio-cammariere-gino-paoli-danilo-rea/
LOCATION:Arena Flegrea\, Via Terracina 197\, Napoli\, 80125
CATEGORIES:Spettacolo
ATTACH;FMTTYPE=image/jpeg:https://archivio.mostradoltremare.it/wp-content/uploads/2016/06/pizap-com14635573426871-1.jpg
END:VEVENT
END:VCALENDAR