BEGIN:VCALENDAR
VERSION:2.0
PRODID:-//Mostra d&#039;Oltremare di Napoli - ECPv5.0.3.1//NONSGML v1.0//EN
CALSCALE:GREGORIAN
METHOD:PUBLISH
X-WR-CALNAME:Mostra d&#039;Oltremare di Napoli
X-ORIGINAL-URL:https://archivio.mostradoltremare.it
X-WR-CALDESC:Eventi per Mostra d&#039;Oltremare di Napoli
BEGIN:VTIMEZONE
TZID:UTC
BEGIN:STANDARD
TZOFFSETFROM:+0000
TZOFFSETTO:+0000
TZNAME:UTC
DTSTART:20180101T000000
END:STANDARD
END:VTIMEZONE
BEGIN:VEVENT
DTSTART;TZID=UTC:20180414T090000
DTEND;TZID=UTC:20180415T180000
DTSTAMP:20260419T202237
CREATED:20180130T163851Z
LAST-MODIFIED:20180409T142530Z
UID:6888-1523696400-1523815200@archivio.mostradoltremare.it
SUMMARY:Siferr 2018 - 2^ edizione
DESCRIPTION:Salone Internazionale della Ferramenta e dell’Utensileria. \nManifestazione rivolta alle imprese. Registrazione visitatori online su www.siferr.com. \nIngresso Viale Kennedy \n  \n  \n
URL:https://archivio.mostradoltremare.it/event/siferr-2018-2-edizione/
LOCATION:Padiglioni 4\, 5 e 6\, Viale Kennedy 54
CATEGORIES:Fiera
ATTACH;FMTTYPE=image/jpeg:https://archivio.mostradoltremare.it/wp-content/uploads/2018/01/siferr-2018.jpg
ORGANIZER;CN="MA.MU.%20Marketing%20Multimediale%20SRL":MAILTO:promozioni@iferr.com
END:VEVENT
END:VCALENDAR