BEGIN:VCALENDAR
VERSION:2.0
PRODID:-//Mostra d&#039;Oltremare di Napoli - ECPv5.0.3.1//NONSGML v1.0//EN
CALSCALE:GREGORIAN
METHOD:PUBLISH
X-WR-CALNAME:Mostra d&#039;Oltremare di Napoli
X-ORIGINAL-URL:https://archivio.mostradoltremare.it
X-WR-CALDESC:Eventi per Mostra d&#039;Oltremare di Napoli
BEGIN:VTIMEZONE
TZID:UTC
BEGIN:STANDARD
TZOFFSETFROM:+0000
TZOFFSETTO:+0000
TZNAME:UTC
DTSTART:20160101T000000
END:STANDARD
END:VTIMEZONE
BEGIN:VEVENT
DTSTART;TZID=UTC:20161215T093000
DTEND;TZID=UTC:20161216T180000
DTSTAMP:20260420T213023
CREATED:20161122T114228Z
LAST-MODIFIED:20161220T103837Z
UID:3343-1481794200-1481911200@archivio.mostradoltremare.it
SUMMARY:SMAU Napoli - 4^ edizione
DESCRIPTION:    // //     \nL’evento di riferimento nei settori innovazione e digitale per le imprese e i professionisti italiani.\nPiattaforma di business matching per tutte le imprese e gli attori pubblici che desiderano guardare oltre il presente cogliendo le opportunità offerte dalle nuove tecnologie\, dal mondo digital e dalle startup più promettenti.\nSmau offre un laboratorio di innovazione e un marketplace di opportunità di business dove scoprire\, incontrare e acquisire nuove idee\, progetti e partner strategici.\n\nOrganizzazione Smau Servizi srl\ntel 02-283131 – fax 02-28313235 – www.smau.it – contact@smau.it\n\nIngresso Viale Kennedy\n
URL:https://archivio.mostradoltremare.it/event/smau-napoli-4-edizione/
LOCATION:Padiglione 6\, Viale Kennedy 54
CATEGORIES:Fiera
ATTACH;FMTTYPE=image/jpeg:https://archivio.mostradoltremare.it/wp-content/uploads/2016/11/SMAU-2016.jpg
END:VEVENT
END:VCALENDAR