BEGIN:VCALENDAR
VERSION:2.0
PRODID:-//Mostra d&#039;Oltremare di Napoli - ECPv5.0.3.1//NONSGML v1.0//EN
CALSCALE:GREGORIAN
METHOD:PUBLISH
X-WR-CALNAME:Mostra d&#039;Oltremare di Napoli
X-ORIGINAL-URL:https://archivio.mostradoltremare.it
X-WR-CALDESC:Eventi per Mostra d&#039;Oltremare di Napoli
BEGIN:VTIMEZONE
TZID:UTC
BEGIN:STANDARD
TZOFFSETFROM:+0000
TZOFFSETTO:+0000
TZNAME:UTC
DTSTART:20160101T000000
END:STANDARD
END:VTIMEZONE
BEGIN:VEVENT
DTSTART;TZID=UTC:20161021T100000
DTEND;TZID=UTC:20161021T190000
DTSTAMP:20260421T091506
CREATED:20160926T141107Z
LAST-MODIFIED:20161019T104506Z
UID:2953-1477044000-1477076400@archivio.mostradoltremare.it
SUMMARY:Social Innovations AROUND 2016 - 3^ edizione
DESCRIPTION:“Idee alla luce del sole” \nAppuntamento Annuale Internazionale di Innovazioni Sociali create da Imprese\, Esperti nazionali ed internazionali\, Ricercatori\, Istituzioni\, Innovatori e Cittadini riuniti. \n  \n
URL:https://archivio.mostradoltremare.it/event/social-innovations-around-2016-3-edizione/
LOCATION:Sala Italia\, Viale Kennedy 54\, Napoli\, 80125
CATEGORIES:Congresso
ATTACH;FMTTYPE=image/jpeg:https://archivio.mostradoltremare.it/wp-content/uploads/2016/09/732-SI-Around-2016-1-1.jpg
END:VEVENT
END:VCALENDAR