BEGIN:VCALENDAR
VERSION:2.0
PRODID:-//Mostra d&#039;Oltremare di Napoli - ECPv5.0.3.1//NONSGML v1.0//EN
CALSCALE:GREGORIAN
METHOD:PUBLISH
X-WR-CALNAME:Mostra d&#039;Oltremare di Napoli
X-ORIGINAL-URL:https://archivio.mostradoltremare.it
X-WR-CALDESC:Eventi per Mostra d&#039;Oltremare di Napoli
BEGIN:VTIMEZONE
TZID:UTC
BEGIN:STANDARD
TZOFFSETFROM:+0000
TZOFFSETTO:+0000
TZNAME:UTC
DTSTART:20170101T000000
END:STANDARD
END:VTIMEZONE
BEGIN:VEVENT
DTSTART;TZID=UTC:20170628T210000
DTEND;TZID=UTC:20170629T235900
DTSTAMP:20260420T043532
CREATED:20170216T143538Z
LAST-MODIFIED:20170622T144456Z
UID:4815-1498683600-1498780740@archivio.mostradoltremare.it
SUMMARY:Spettacoli di Danza Balletto di Napoli
DESCRIPTION:Danza classica accademica\, modern\, flamenco. \n\n\n\n\n\n\n\n\n\n\n\n\n\n\n\n\n\n\n\n\n\n\n\n\n\n\nPer maggiori informazioni e per prenotazione posti\, si prega di contattare i seguenti recapiti:  E-Mail info@marafusco.it – 0815564029. \nOrario spettacoli: il 28 giugno ore 21\,00 – il 29 giugno ore 18\,00 e 21\,00 \n\n\n\n\n\n\n\n\n\n\n\n\n\n\n\n\n\n\n\n\n\n\n\n\n\n\n  \n
URL:https://archivio.mostradoltremare.it/event/spettacoli-danza-balletto-napoli/
LOCATION:Teatro Mediterraneo e Piazzale antistante\, Viale J.F.Kennedy 54\, Napoli\, 80125
CATEGORIES:Spettacolo
ATTACH;FMTTYPE=image/jpeg:https://archivio.mostradoltremare.it/wp-content/uploads/2017/02/mara-fusco.jpg
ORGANIZER;CN="Balletto%20di%20Napoli%20-%20Compagnia%20Regionale%20di%20Danza":MAILTO:ballettodinapoli@libero.it
END:VEVENT
END:VCALENDAR