BEGIN:VCALENDAR
VERSION:2.0
PRODID:-//Mostra d&#039;Oltremare di Napoli - ECPv5.0.3.1//NONSGML v1.0//EN
CALSCALE:GREGORIAN
METHOD:PUBLISH
X-WR-CALNAME:Mostra d&#039;Oltremare di Napoli
X-ORIGINAL-URL:https://archivio.mostradoltremare.it
X-WR-CALDESC:Eventi per Mostra d&#039;Oltremare di Napoli
BEGIN:VTIMEZONE
TZID:UTC
BEGIN:STANDARD
TZOFFSETFROM:+0000
TZOFFSETTO:+0000
TZNAME:UTC
DTSTART:20170101T000000
END:STANDARD
END:VTIMEZONE
BEGIN:VEVENT
DTSTART;TZID=UTC:20170913T090000
DTEND;TZID=UTC:20170914T180000
DTSTAMP:20260421T094325
CREATED:20170620T111529Z
LAST-MODIFIED:20170911T134448Z
UID:5815-1505293200-1505412000@archivio.mostradoltremare.it
SUMMARY:Technologybiz 2017 - 8^ edizione
DESCRIPTION:The Business Networking Event. Tutte le tecnologie ICT a servizio delle PMI regionali ed extraregionali. \nNuovo format interamente incentrato su business networking\, open innovation e trasformazione digitale. \nLe attività si svolgeranno attraverso Business Presentation\, Incontri One-to-One e Tavoli di Networking. \nTutti gli eventi dell’Agenda sono disponibili su www.tbiz.it. \nIngressi: Via Terracina o Viale Kennedy \n  \n
URL:https://archivio.mostradoltremare.it/event/technologybiz-2017-8-edizione/
LOCATION:Palacongressi e Giardino dei Pini\, Via Terracina\, Napoli\, 80125
CATEGORIES:Congresso
ATTACH;FMTTYPE=image/jpeg:https://archivio.mostradoltremare.it/wp-content/uploads/2017/06/381-t-biz.jpg
ORGANIZER;CN="Channel%20Management":MAILTO:segreteria@technologybiz.it
END:VEVENT
END:VCALENDAR